BEGIN:VCALENDAR
VERSION:2.0
PRODID:-//Club N39 - ECPv6.15.20//NONSGML v1.0//EN
CALSCALE:GREGORIAN
METHOD:PUBLISH
X-WR-CALNAME:Club N39
X-ORIGINAL-URL:https://club-n39.de
X-WR-CALDESC:Veranstaltungen für Club N39
REFRESH-INTERVAL;VALUE=DURATION:PT1H
X-Robots-Tag:noindex
X-PUBLISHED-TTL:PT1H
BEGIN:VTIMEZONE
TZID:Europe/Berlin
BEGIN:DAYLIGHT
TZOFFSETFROM:+0100
TZOFFSETTO:+0200
TZNAME:CEST
DTSTART:20240331T010000
END:DAYLIGHT
BEGIN:STANDARD
TZOFFSETFROM:+0200
TZOFFSETTO:+0100
TZNAME:CET
DTSTART:20241027T010000
END:STANDARD
BEGIN:DAYLIGHT
TZOFFSETFROM:+0100
TZOFFSETTO:+0200
TZNAME:CEST
DTSTART:20250330T010000
END:DAYLIGHT
BEGIN:STANDARD
TZOFFSETFROM:+0200
TZOFFSETTO:+0100
TZNAME:CET
DTSTART:20251026T010000
END:STANDARD
BEGIN:DAYLIGHT
TZOFFSETFROM:+0100
TZOFFSETTO:+0200
TZNAME:CEST
DTSTART:20260329T010000
END:DAYLIGHT
BEGIN:STANDARD
TZOFFSETFROM:+0200
TZOFFSETTO:+0100
TZNAME:CET
DTSTART:20261025T010000
END:STANDARD
END:VTIMEZONE
BEGIN:VEVENT
DTSTART;TZID=Europe/Berlin:20251211T210000
DTEND;TZID=Europe/Berlin:20251212T020000
DTSTAMP:20260419T230632
CREATED:20251114T093805Z
LAST-MODIFIED:20251114T105007Z
UID:10000082-1765486800-1765504800@club-n39.de
SUMMARY:PISTE39 x WEIHNACHTSMARKT⛷️
DESCRIPTION:Mit großer Vorfreude zieht die PISTE39 in Leipzig ein und wird jeden Tag von Montag bis Samstag ab 21 Uhr vom 24. November bis zum 23. Dezember ihre Türen öffnen!\nJEDEN Freitag werden wir zudem einen STARACT von unserer Lieblingsinsel präsentieren! \nDazu gibt’s AllMixed\, Partyclassics & Après-Ski – heißen Glühwein und das pure Pistenfieber. ❄️ \nEintritt: 5 Euro ✅ \nMusik: AllMixed\, PartyClassics\, 90/2000er & Après-Ski \n***Freitag/Samstag zudem zweiter Floor*** \nZusätzlich: jeden Tag ab 19 Uhr Glühweinstand in der Passage vor dem Club \n#uuuuundlos #Piste39 #Saison1 #N39 #ApresSki #Pistegutallesgut
URL:https://club-n39.de/event/piste39-x-club-n39/2025-12-11/
LOCATION:Club N39\, Markt 17\, Leipzig\, Sachsen\, 04109\, Germany
CATEGORIES:PISTE39 x CLUB N39
ATTACH;FMTTYPE=image/jpeg:https://club-n39.de/wp-content/uploads/2025/11/PIste39-x-n39.jpg
END:VEVENT
BEGIN:VEVENT
DTSTART;TZID=Europe/Berlin:20251212T210000
DTEND;TZID=Europe/Berlin:20251213T050000
DTSTAMP:20260419T230632
CREATED:20251114T101410Z
LAST-MODIFIED:20251208T210758Z
UID:10000410-1765573200-1765602000@club-n39.de
SUMMARY:LORENZ BÜFFEL x PISTE39 ⛷️
DESCRIPTION:Mit großer Vorfreude zieht die PISTE39 in Leipzig ein und wird jeden Tag ab 21 Uhr vom 24. November bis zum 23. Dezember ihre Türen öffnen.\nJEDEN Freitag werden wir zudem einen STARACT von unserer Lieblingsinsel präsentieren. \nDäpp Däpp Däpp Johnny Däpp Däpp! Der Zug hat keine Bremsen! Baila baila baila baila! \nMidnight Lady an der Bar! \nEs war sehr schwer\, aber wir freuen uns unglaublich am Freitag\, den 12. Dezember\, niemand Geringeres als LORENZ BÜFFEL zu uns in den Club N39 zu holen! Bekannt aus dem Megapark Mallorcas und seinen unzähligen Hits sorgt der Mallorca-Star mit seiner unermüdlichen Bühnenpräsenz und über 20 Jahre Ballermannerfahrung für eine der wohl lautesten Nächte des Advents. \nEr bringt den Mallorca-Vibe direkt nach Leipzig – mit Partyaction\, Shots\, Selfies und spontanen Showeinlagen.\nDazu gibt’s wie immer AllMixed\, Partyclassics & Après-Ski – heißen Glühwein und das pure Pistenfieber. ❄️ \n N39 WEST:\nAllMixed\, PartyClassics & Après-Ski \nby DJ PISTE\, DJ SNOWMAN & LORENZ BÜFFEL \nN39 EAST:\n90/2000/2010er \nby BEATZFIRE [Hamburg] \nTischreservierungen über www.club-n39.de \nZusätzlich: jeden Tag ab 19 Uhr Glühweinstand in der Passage vor dem Club \nMusik: AllMixed | Partyclassics | Après-Ski | Lorenz Büffel live on stage \n #uuundlos #Piste39 #N39 #LorenzBüffel #ApresSki #Pistegutallesgut
URL:https://club-n39.de/event/lorenz-bueffel-x-piste39/
LOCATION:Club N39\, Markt 17\, Leipzig\, Sachsen\, 04109\, Germany
CATEGORIES:PISTE39 x CLUB N39
ATTACH;FMTTYPE=image/jpeg:https://club-n39.de/wp-content/uploads/2025/11/LORENZ-BUEFFEL-X-N39.jpg
END:VEVENT
END:VCALENDAR