BEGIN:VCALENDAR
VERSION:2.0
PRODID:-//Club N39 - ECPv6.15.20//NONSGML v1.0//EN
CALSCALE:GREGORIAN
METHOD:PUBLISH
X-ORIGINAL-URL:https://club-n39.de
X-WR-CALDESC:Veranstaltungen für Club N39
REFRESH-INTERVAL;VALUE=DURATION:PT1H
X-Robots-Tag:noindex
X-PUBLISHED-TTL:PT1H
BEGIN:VTIMEZONE
TZID:Europe/Berlin
BEGIN:DAYLIGHT
TZOFFSETFROM:+0100
TZOFFSETTO:+0200
TZNAME:CEST
DTSTART:20240331T010000
END:DAYLIGHT
BEGIN:STANDARD
TZOFFSETFROM:+0200
TZOFFSETTO:+0100
TZNAME:CET
DTSTART:20241027T010000
END:STANDARD
BEGIN:DAYLIGHT
TZOFFSETFROM:+0100
TZOFFSETTO:+0200
TZNAME:CEST
DTSTART:20250330T010000
END:DAYLIGHT
BEGIN:STANDARD
TZOFFSETFROM:+0200
TZOFFSETTO:+0100
TZNAME:CET
DTSTART:20251026T010000
END:STANDARD
BEGIN:DAYLIGHT
TZOFFSETFROM:+0100
TZOFFSETTO:+0200
TZNAME:CEST
DTSTART:20260329T010000
END:DAYLIGHT
BEGIN:STANDARD
TZOFFSETFROM:+0200
TZOFFSETTO:+0100
TZNAME:CET
DTSTART:20261025T010000
END:STANDARD
END:VTIMEZONE
BEGIN:VEVENT
DTSTART;TZID=Europe/Berlin:20251219T210000
DTEND;TZID=Europe/Berlin:20251220T050000
DTSTAMP:20260420T003053
CREATED:20251114T102945Z
LAST-MODIFIED:20251208T211135Z
UID:10000411-1766178000-1766206800@club-n39.de
SUMMARY:SCHÜRZE x PISTE39 ⛷️
DESCRIPTION:Mit großer Vorfreude zieht die PISTE39 in Leipzig ein und wird jeden Tag ab 21 Uhr vom 24. November bis zum 23. Dezember ihre Türen öffnen!\nJEDEN Freitag werden wir zudem einen STARACT von unserer Lieblingsinsel präsentieren! \nIch hab’n Puff und meine Puffmama heißt Laaaaayla! Heuteee sind wir wieder bumsbaaaaar!\nEin richtiges Highlight erwartet uns am Freitag\, den 19. Dezember. Niemand Geringeres als SCHÜRZE kommt zu uns in den Club N39! Bekannt aus dem Bierkönig Mallorcas und seinen Nummer 1 Hits Layla & Bumsbar sorgt der Mallorca-Star mit seiner nahbaren Art und seiner Live Performance mit Gitarre für eine der wohl schönsten Nächte des Advents. \nEr bringt den Mallorca-Vibe direkt nach Leipzig – mit Partyaction\, Shots\, Selfies und spontanen Showeinlagen. \nDazu gibt’s wie immer AllMixed\, Partyclassics & Après-Ski – heißen Glühwein und das pure Pistenfieber. ❄️ \n N39 WEST:\nAllMixed\, PartyClassics & Après-Ski \nby DJ HELMUT\, FACE-T & SCHÜRZE \nN39 EAST:\n90/2000/2010er \nby BEATZFIRE [Hamburg] \nTischreservierungen über www.club-n39.de \nZusätzlich: jeden Tag ab 19 Uhr Glühweinstand in der Passage vor dem Club \nMusik: AllMixed | Partyclassics | Après-Ski | Schürze live on stage \n#uuundlos #Piste39 #N39 #Schürze #ApresSki #Pistegutallesgut
URL:https://club-n39.de/event/schuerze-x-piste39/
LOCATION:Club N39\, Markt 17\, Leipzig\, Sachsen\, 04109\, Germany
ATTACH;FMTTYPE=image/jpeg:https://club-n39.de/wp-content/uploads/2025/11/SCHUERZE-X-N39.jpg
ORGANIZER;CN="Club N39":MAILTO:alex@club-n39.de
END:VEVENT
BEGIN:VEVENT
DTSTART;TZID=Europe/Berlin:20251220T210000
DTEND;TZID=Europe/Berlin:20251221T050000
DTSTAMP:20260420T003053
CREATED:20251114T105405Z
LAST-MODIFIED:20251114T105405Z
UID:10000415-1766264400-1766293200@club-n39.de
SUMMARY:PISTE39 x WEIHNACHTSMARKT ⛷️
DESCRIPTION:Mit großer Vorfreude zieht die PISTE39 in Leipzig ein und wird jeden Tag ab 21 Uhr vom 24. November bis zum 23. Dezember ihre Türen öffnen!\nJEDEN Freitag werden wir zudem einen STARACT von unserer Lieblingsinsel präsentieren ????\n\nDazu gibt’s wie immer AllMixed\, Partyclassics & Après-Ski – heißen Glühwein und das pure Pistenfieber. ❄️\n\nN39 WEST:\n\nAllMixed\, PartyClassics & Après-Ski\n\nN39 EAST:\n\n90/2000/2010er\n\nTischreservierungen über www.club-n39.de\n\nZusätzlich: jeden Tag ab 19 Uhr Glühweinstand in der Passage vor dem Club\n\nMusik: AllMixed | Partyclassics | Après-Ski\n\n#uuuundlos #Piste39 #N39 #CalvinKleinen #ApresSki #Pistegutallesgut
URL:https://club-n39.de/event/piste39-x-weihnachtsmarkt-samstags/2025-12-20/
LOCATION:Sachsen
CATEGORIES:PISTE39 x CLUB N39
ATTACH;FMTTYPE=image/jpeg:https://club-n39.de/wp-content/uploads/2025/11/PIste39-x-n39.jpg
ORGANIZER;CN="Club N39":MAILTO:alex@club-n39.de
END:VEVENT
END:VCALENDAR