BEGIN:VCALENDAR
VERSION:2.0
PRODID:-//Club N39 - ECPv6.15.20//NONSGML v1.0//EN
CALSCALE:GREGORIAN
METHOD:PUBLISH
X-ORIGINAL-URL:https://club-n39.de
X-WR-CALDESC:Veranstaltungen für Club N39
REFRESH-INTERVAL;VALUE=DURATION:PT1H
X-Robots-Tag:noindex
X-PUBLISHED-TTL:PT1H
BEGIN:VTIMEZONE
TZID:Europe/Berlin
BEGIN:DAYLIGHT
TZOFFSETFROM:+0100
TZOFFSETTO:+0200
TZNAME:CEST
DTSTART:20250330T010000
END:DAYLIGHT
BEGIN:STANDARD
TZOFFSETFROM:+0200
TZOFFSETTO:+0100
TZNAME:CET
DTSTART:20251026T010000
END:STANDARD
BEGIN:DAYLIGHT
TZOFFSETFROM:+0100
TZOFFSETTO:+0200
TZNAME:CEST
DTSTART:20260329T010000
END:DAYLIGHT
BEGIN:STANDARD
TZOFFSETFROM:+0200
TZOFFSETTO:+0100
TZNAME:CET
DTSTART:20261025T010000
END:STANDARD
BEGIN:DAYLIGHT
TZOFFSETFROM:+0100
TZOFFSETTO:+0200
TZNAME:CEST
DTSTART:20270328T010000
END:DAYLIGHT
BEGIN:STANDARD
TZOFFSETFROM:+0200
TZOFFSETTO:+0100
TZNAME:CET
DTSTART:20271031T010000
END:STANDARD
END:VTIMEZONE
BEGIN:VEVENT
DTSTART;TZID=Europe/Berlin:20260123T230000
DTEND;TZID=Europe/Berlin:20260124T050000
DTSTAMP:20260419T213240
CREATED:20260109T154630Z
LAST-MODIFIED:20260123T173815Z
UID:10000421-1769209200-1769230800@club-n39.de
SUMMARY:N39 Latino Nights - 23.01.2026
DESCRIPTION:¡Viva la Noche Latina! – Latino Night @ N39 Leipzig\nAm Freitag\, den 23.01.2026 starten wir unsere Veranstaltungsreihe ein drittes Mal: N39 Latino Nights hosted by Soweto Nightz! Lass dich von den Beats Lateinamerikas mitreißen – Reggaeton\, Salsa\, Bachata\, Merengue und Latin Pop sorgen für tropische Vibes auf dem Dancefloor. \nMusic auf 2 Floors: N39 West mit Latin | Reggaeton by DJ Samzz | DJ Morvious & N39 East mit AllMixed (2.000er | Partyclassics) by Franco \nDresscode: Come as you are – aber wer will\, bringt karibische Farben ins Spiel! \nVamos a bailar – wir freuen uns auf euch!\nN39 Leipzig | Doors open 23:00 | \nEintritt: VVK 7/AK 10
URL:https://club-n39.de/event/n39-latino-nights-23-01-2026/
LOCATION:Club N39\, Markt 17\, Leipzig\, Sachsen\, 04109\, Germany
CATEGORIES:N39 Latino Nights
ATTACH;FMTTYPE=image/jpeg:https://club-n39.de/wp-content/uploads/2026/01/latino-nights-n39.jpg
ORGANIZER;CN="Club N39":MAILTO:alex@club-n39.de
END:VEVENT
END:VCALENDAR