BEGIN:VCALENDAR
VERSION:2.0
PRODID:-//Club N39 - ECPv6.15.20//NONSGML v1.0//EN
CALSCALE:GREGORIAN
METHOD:PUBLISH
X-WR-CALNAME:Club N39
X-ORIGINAL-URL:https://club-n39.de
X-WR-CALDESC:Veranstaltungen für Club N39
REFRESH-INTERVAL;VALUE=DURATION:PT1H
X-Robots-Tag:noindex
X-PUBLISHED-TTL:PT1H
BEGIN:VTIMEZONE
TZID:Europe/Berlin
BEGIN:DAYLIGHT
TZOFFSETFROM:+0100
TZOFFSETTO:+0200
TZNAME:CEST
DTSTART:20250330T010000
END:DAYLIGHT
BEGIN:STANDARD
TZOFFSETFROM:+0200
TZOFFSETTO:+0100
TZNAME:CET
DTSTART:20251026T010000
END:STANDARD
BEGIN:DAYLIGHT
TZOFFSETFROM:+0100
TZOFFSETTO:+0200
TZNAME:CEST
DTSTART:20260329T010000
END:DAYLIGHT
BEGIN:STANDARD
TZOFFSETFROM:+0200
TZOFFSETTO:+0100
TZNAME:CET
DTSTART:20261025T010000
END:STANDARD
BEGIN:DAYLIGHT
TZOFFSETFROM:+0100
TZOFFSETTO:+0200
TZNAME:CEST
DTSTART:20270328T010000
END:DAYLIGHT
BEGIN:STANDARD
TZOFFSETFROM:+0200
TZOFFSETTO:+0100
TZNAME:CET
DTSTART:20271031T010000
END:STANDARD
END:VTIMEZONE
BEGIN:VEVENT
DTSTART;TZID=Europe/Berlin:20260405T230000
DTEND;TZID=Europe/Berlin:20260406T050000
DTSTAMP:20260419T164204
CREATED:20260304T212448Z
LAST-MODIFIED:20260304T212448Z
UID:10000456-1775430000-1775451600@club-n39.de
SUMMARY:N39 Hiphop Nights - 05.04.2026
DESCRIPTION:Die N39 HipHop Nights gehen in die nächste Runde.\nFeiert im neu geöffneten Club N39 am Leipziger Marktplatz. Dresscode? Kommt wie ihr euch fühlt! Wir finden es nicht mehr zeitgemäß Menschen vorzuschreiben\, wie sie sich kleiden sollen. \nMusik auf 2 Floors\nN39 West mit HipHop\, Reggaeton & Latin\nN39 East mit All Mixed (90er/2000er/2010er/Klassiker) \nStart 23 Uhr \nWir freuen uns auf euch! \n#ClubN39 #Leipzig
URL:https://club-n39.de/event/n39-hiphop-nights-05-04-2026/
LOCATION:Club N39\, Markt 17\, Leipzig\, Sachsen\, 04109\, Germany
CATEGORIES:N39 Hiphop Nights
ATTACH;FMTTYPE=image/jpeg:https://club-n39.de/wp-content/uploads/2026/03/club_n39_events_2026_13.jpg
ORGANIZER;CN="Club N39":MAILTO:alex@club-n39.de
END:VEVENT
END:VCALENDAR