BEGIN:VCALENDAR
VERSION:2.0
PRODID:-//Club N39 - ECPv6.15.20//NONSGML v1.0//EN
CALSCALE:GREGORIAN
METHOD:PUBLISH
X-WR-CALNAME:Club N39
X-ORIGINAL-URL:https://club-n39.de
X-WR-CALDESC:Veranstaltungen für Club N39
REFRESH-INTERVAL;VALUE=DURATION:PT1H
X-Robots-Tag:noindex
X-PUBLISHED-TTL:PT1H
BEGIN:VTIMEZONE
TZID:Europe/Berlin
BEGIN:DAYLIGHT
TZOFFSETFROM:+0100
TZOFFSETTO:+0200
TZNAME:CEST
DTSTART:20250330T010000
END:DAYLIGHT
BEGIN:STANDARD
TZOFFSETFROM:+0200
TZOFFSETTO:+0100
TZNAME:CET
DTSTART:20251026T010000
END:STANDARD
BEGIN:DAYLIGHT
TZOFFSETFROM:+0100
TZOFFSETTO:+0200
TZNAME:CEST
DTSTART:20260329T010000
END:DAYLIGHT
BEGIN:STANDARD
TZOFFSETFROM:+0200
TZOFFSETTO:+0100
TZNAME:CET
DTSTART:20261025T010000
END:STANDARD
BEGIN:DAYLIGHT
TZOFFSETFROM:+0100
TZOFFSETTO:+0200
TZNAME:CEST
DTSTART:20270328T010000
END:DAYLIGHT
BEGIN:STANDARD
TZOFFSETFROM:+0200
TZOFFSETTO:+0100
TZNAME:CET
DTSTART:20271031T010000
END:STANDARD
END:VTIMEZONE
BEGIN:VEVENT
DTSTART;TZID=Europe/Berlin:20260515T230000
DTEND;TZID=Europe/Berlin:20260516T050000
DTSTAMP:20260419T182102
CREATED:20260304T211548Z
LAST-MODIFIED:20260304T211551Z
UID:10000453-1778886000-1778907600@club-n39.de
SUMMARY:N39 Elternabend - 15.05.2026
DESCRIPTION:Ihr wolltet schon immer mal mit euren Eltern gemeinsam feiern gehen? Dann ist der Elternabend im N39 das perfekte Event für euch. Unter dem Motto ‚bring your parents party‘ ist es ausdrücklich erwünscht\, dass ihr mindestens einen eurer Elternteile mit zur Party bringt. Es läuft 80er/90er und Club Sound.
URL:https://club-n39.de/event/elternabend/
LOCATION:Club N39\, Markt 17\, Leipzig\, Sachsen\, 04109\, Germany
CATEGORIES:N39 Elternabend
ATTACH;FMTTYPE=image/jpeg:https://club-n39.de/wp-content/uploads/2026/03/club_n39_events_2026_23.jpg
END:VEVENT
END:VCALENDAR