BEGIN:VCALENDAR
VERSION:2.0
PRODID:-//Club N39 - ECPv6.15.20//NONSGML v1.0//EN
CALSCALE:GREGORIAN
METHOD:PUBLISH
X-WR-CALNAME:Club N39
X-ORIGINAL-URL:https://club-n39.de
X-WR-CALDESC:Veranstaltungen für Club N39
REFRESH-INTERVAL;VALUE=DURATION:PT1H
X-Robots-Tag:noindex
X-PUBLISHED-TTL:PT1H
BEGIN:VTIMEZONE
TZID:Europe/Berlin
BEGIN:DAYLIGHT
TZOFFSETFROM:+0100
TZOFFSETTO:+0200
TZNAME:CEST
DTSTART:20240331T010000
END:DAYLIGHT
BEGIN:STANDARD
TZOFFSETFROM:+0200
TZOFFSETTO:+0100
TZNAME:CET
DTSTART:20241027T010000
END:STANDARD
BEGIN:DAYLIGHT
TZOFFSETFROM:+0100
TZOFFSETTO:+0200
TZNAME:CEST
DTSTART:20250330T010000
END:DAYLIGHT
BEGIN:STANDARD
TZOFFSETFROM:+0200
TZOFFSETTO:+0100
TZNAME:CET
DTSTART:20251026T010000
END:STANDARD
BEGIN:DAYLIGHT
TZOFFSETFROM:+0100
TZOFFSETTO:+0200
TZNAME:CEST
DTSTART:20260329T010000
END:DAYLIGHT
BEGIN:STANDARD
TZOFFSETFROM:+0200
TZOFFSETTO:+0100
TZNAME:CET
DTSTART:20261025T010000
END:STANDARD
END:VTIMEZONE
BEGIN:VEVENT
DTSTART;TZID=Europe/Berlin:20250308T230000
DTEND;TZID=Europe/Berlin:20250309T050000
DTSTAMP:20260422T120446
CREATED:20250306T142222Z
LAST-MODIFIED:20250308T103552Z
UID:10000004-1741474800-1741496400@club-n39.de
SUMMARY:N39 Nights - 08.03.2025
DESCRIPTION:N39 Nights!\nFür 5 Euro Eintritt im neu geöffneten Club N39 am Leipziger Marktplatz feiern. Dresscode? Kommt\, wie ihr euch fühlt! Wir finden es nicht mehr zeitgemäß Menschen vorzuschreiben\, wie sie sich kleiden sollen. \nMusik auf 2 Floors\nN39 West mit House\, Charts & ClubSound\nN39 East mit All Mixed (90er/2000er/2010er/Klassiker) \nStart 23 Uhr \nWir freuen uns auf euch! \n#ClubN39 #Leipzig #Party
URL:https://club-n39.de/event/n39-nights-08-03-2025/
LOCATION:Club N39\, Markt 17\, Leipzig\, Sachsen\, 04109\, Germany
CATEGORIES:N39 Nights
ATTACH;FMTTYPE=image/jpeg:https://club-n39.de/wp-content/uploads/2025/03/N39-nights-0803-square.jpg
ORGANIZER;CN="Club N39":MAILTO:alex@club-n39.de
END:VEVENT
BEGIN:VEVENT
DTSTART;TZID=Europe/Berlin:20250314T230000
DTEND;TZID=Europe/Berlin:20250315T050000
DTSTAMP:20260422T120446
CREATED:20250306T142803Z
LAST-MODIFIED:20250310T165825Z
UID:10000005-1741993200-1742014800@club-n39.de
SUMMARY:N39 Hiphop Nights - 14.03.2025
DESCRIPTION:Zum zweiten Mal starten wir die neue Partyreihe N39 Hiphop Nights am Valentinstag\, den 14.02.2025. \nFeiert im neu geöffneten Club N39 am Leipziger Marktplatz. Dresscode? Kommt wie ihr euch fühlt! Wir finden es nicht mehr zeitgemäß Menschen vorzuschreiben\, wie sie sich kleiden sollen. \nMusik auf 2 Floors\nN39 West mit HipHop\, Reggaeton & Latin\nN39 East mit All Mixed (90er/2000er/2010er/Klassiker) \nStart 23 Uhr \nWir freuen uns auf euch! \n#ClubN39 #Leipzig
URL:https://club-n39.de/event/n39-hiphop-nights-14-03-2025/
LOCATION:Club N39\, Markt 17\, Leipzig\, Sachsen\, 04109\, Germany
CATEGORIES:N39 Hiphop Nights
ATTACH;FMTTYPE=image/jpeg:https://club-n39.de/wp-content/uploads/2025/03/N39-hiphop-nights-140325.jpg
END:VEVENT
BEGIN:VEVENT
DTSTART;TZID=Europe/Berlin:20250315T230000
DTEND;TZID=Europe/Berlin:20250316T050000
DTSTAMP:20260422T120446
CREATED:20250306T143150Z
LAST-MODIFIED:20250308T103929Z
UID:10000006-1742079600-1742101200@club-n39.de
SUMMARY:N39 Nights - 15.03.2025
DESCRIPTION:N39 Nights!\n\n\n\n\n\n\n\n\n\n\n\n\n\n\nFür 5 Euro Eintritt im neu geöffneten Club N39 am Leipziger Marktplatz feiern. Dresscode? Kommt wie ihr euch fühlt! Wir finden es nicht mehr zeitgemäß Menschen vorzuschreiben\, wie sie sich kleiden sollen. \nMusik auf 2 Floors\nN39 West mit House\, Charts & ClubSound\nN39 East mit All Mixed (90er/2000er/2010er/Klassiker) \nStart 23 Uhr \nWir freuen uns auf euch! \n#ClubN39 #Leipzig #Party
URL:https://club-n39.de/event/n39-nights-15-03-2025/
LOCATION:Club N39\, Markt 17\, Leipzig\, Sachsen\, 04109\, Germany
CATEGORIES:N39 Nights
ATTACH;FMTTYPE=image/jpeg:https://club-n39.de/wp-content/uploads/2025/03/N39-nights-150325.jpg
ORGANIZER;CN="Club N39":MAILTO:alex@club-n39.de
END:VEVENT
BEGIN:VEVENT
DTSTART;TZID=Europe/Berlin:20250322T230000
DTEND;TZID=Europe/Berlin:20250323T050000
DTSTAMP:20260422T120446
CREATED:20250306T151224Z
LAST-MODIFIED:20250308T104028Z
UID:10000007-1742684400-1742706000@club-n39.de
SUMMARY:N39 Nights - 22.03.2025
DESCRIPTION:N39 Nights!\n\n\n\n\n\n\n\n\n\n\n\n\n\n\nFür 5 Euro Eintritt im neu geöffneten Club N39 am Leipziger Marktplatz feiern. Dresscode? Kommt wie ihr euch fühlt! Wir finden es nicht mehr zeitgemäß Menschen vorzuschreiben\, wie sie sich kleiden sollen. \nMusik auf 2 Floors\nN39 West mit House\, Charts & ClubSound\nN39 East mit All Mixed (90er/2000er/2010er/Klassiker) \nStart 23 Uhr \nWir freuen uns auf euch! \n#ClubN39 #Leipzig #Party
URL:https://club-n39.de/event/n39-nights-22-03-2025/
LOCATION:Club N39\, Markt 17\, Leipzig\, Sachsen\, 04109\, Germany
CATEGORIES:N39 Nights
ATTACH;FMTTYPE=image/jpeg:https://club-n39.de/wp-content/uploads/2025/03/N39-nights-220325.jpg
ORGANIZER;CN="Club N39":MAILTO:alex@club-n39.de
END:VEVENT
BEGIN:VEVENT
DTSTART;TZID=Europe/Berlin:20250329T230000
DTEND;TZID=Europe/Berlin:20250330T050000
DTSTAMP:20260422T120446
CREATED:20250307T090524Z
LAST-MODIFIED:20250311T161600Z
UID:10000008-1743289200-1743310800@club-n39.de
SUMMARY:N39 Nights - 29.03.2025
DESCRIPTION:Für 5 Euro Eintritt im neu geöffneten Club N39 am Leipziger Marktplatz feiern. Dresscode? Kommt wie ihr euch fühlt! Wir finden es nicht mehr zeitgemäß Menschen vorzuschreiben\, wie sie sich kleiden sollen.\n\n\n\n\n\n\n\n\n\n\n\n\n\n\nMusik auf 2 Floors\nN39 West mit House\, Charts & ClubSound\nN39 East mit All Mixed (90er/2000er/2010er/Klassiker) \nStart 23 Uhr \nWir freuen uns auf euch! \n#ClubN39 #Leipzig #Party
URL:https://club-n39.de/event/n39-nights-19-03-2025/
LOCATION:Club N39\, Markt 17\, Leipzig\, Sachsen\, 04109\, Germany
CATEGORIES:N39 Nights
ATTACH;FMTTYPE=image/jpeg:https://club-n39.de/wp-content/uploads/2025/03/N39-nights-290325.jpg
ORGANIZER;CN="Club N39":MAILTO:alex@club-n39.de
END:VEVENT
END:VCALENDAR