BEGIN:VCALENDAR
VERSION:2.0
PRODID:-//Club N39 - ECPv6.15.20//NONSGML v1.0//EN
CALSCALE:GREGORIAN
METHOD:PUBLISH
X-WR-CALNAME:Club N39
X-ORIGINAL-URL:https://club-n39.de
X-WR-CALDESC:Veranstaltungen für Club N39
REFRESH-INTERVAL;VALUE=DURATION:PT1H
X-Robots-Tag:noindex
X-PUBLISHED-TTL:PT1H
BEGIN:VTIMEZONE
TZID:Europe/Berlin
BEGIN:DAYLIGHT
TZOFFSETFROM:+0100
TZOFFSETTO:+0200
TZNAME:CEST
DTSTART:20240331T010000
END:DAYLIGHT
BEGIN:STANDARD
TZOFFSETFROM:+0200
TZOFFSETTO:+0100
TZNAME:CET
DTSTART:20241027T010000
END:STANDARD
BEGIN:DAYLIGHT
TZOFFSETFROM:+0100
TZOFFSETTO:+0200
TZNAME:CEST
DTSTART:20250330T010000
END:DAYLIGHT
BEGIN:STANDARD
TZOFFSETFROM:+0200
TZOFFSETTO:+0100
TZNAME:CET
DTSTART:20251026T010000
END:STANDARD
BEGIN:DAYLIGHT
TZOFFSETFROM:+0100
TZOFFSETTO:+0200
TZNAME:CEST
DTSTART:20260329T010000
END:DAYLIGHT
BEGIN:STANDARD
TZOFFSETFROM:+0200
TZOFFSETTO:+0100
TZNAME:CET
DTSTART:20261025T010000
END:STANDARD
END:VTIMEZONE
BEGIN:VEVENT
DTSTART;TZID=Europe/Berlin:20250430T230000
DTEND;TZID=Europe/Berlin:20250501T050000
DTSTAMP:20260420T084454
CREATED:20250425T081005Z
LAST-MODIFIED:20250425T081059Z
UID:10000027-1746054000-1746075600@club-n39.de
SUMMARY:N39 Tanz in den Mai! - 30.04.2025
DESCRIPTION:Für 5 Euro Eintritt im neu geöffneten Club N39 am Leipziger Marktplatz feiern. Dresscode? Kommt wie ihr euch fühlt! Wir finden es nicht mehr zeitgemäß Menschen vorzuschreiben\, wie sie sich kleiden sollen. \nMusik auf 2 Floors\nN39 West mit House\, Charts & ClubSound\nN39 East mit All Mixed (90er/2000er/2010er/Klassiker) \nStart 23 Uhr \nWir freuen uns auf euch! \n#ClubN39 #Leipzig #Party
URL:https://club-n39.de/event/n39-tanz-in-den-mai-30-04-2025/
LOCATION:Club N39\, Markt 17\, Leipzig\, Sachsen\, 04109\, Germany
CATEGORIES:N39 Nights
ATTACH;FMTTYPE=image/jpeg:https://club-n39.de/wp-content/uploads/2025/04/club-n39-leipzig-tanz-in-den-mai.jpg
ORGANIZER;CN="Club N39":MAILTO:alex@club-n39.de
END:VEVENT
BEGIN:VEVENT
DTSTART;TZID=Europe/Berlin:20250503T230000
DTEND;TZID=Europe/Berlin:20250504T050000
DTSTAMP:20260420T084455
CREATED:20250407T073307Z
LAST-MODIFIED:20250407T073307Z
UID:10000013-1746313200-1746334800@club-n39.de
SUMMARY:N39 Nights - 03.05.2025
DESCRIPTION:Für 5 Euro Eintritt im neu geöffneten Club N39 am Leipziger Marktplatz feiern. Dresscode? Kommt wie ihr euch fühlt! Wir finden es nicht mehr zeitgemäß Menschen vorzuschreiben\, wie sie sich kleiden sollen. \nMusik auf 2 Floors\nN39 West mit House\, Charts & ClubSound\nN39 East mit All Mixed (90er/2000er/2010er/Klassiker) \nStart 23 Uhr \nWir freuen uns auf euch! \n#ClubN39 #Leipzig #Party
URL:https://club-n39.de/event/n39-nights-03-05-2025/
LOCATION:Club N39\, Markt 17\, Leipzig\, Sachsen\, 04109\, Germany
CATEGORIES:N39 Nights
ATTACH;FMTTYPE=image/jpeg:https://club-n39.de/wp-content/uploads/2025/04/Club_N39_Leipzig_Event07.jpg
ORGANIZER;CN="Club N39":MAILTO:alex@club-n39.de
END:VEVENT
BEGIN:VEVENT
DTSTART;TZID=Europe/Berlin:20250509T230000
DTEND;TZID=Europe/Berlin:20250510T050000
DTSTAMP:20260420T084455
CREATED:20250407T080156Z
LAST-MODIFIED:20250507T074528Z
UID:10000025-1746831600-1746853200@club-n39.de
SUMMARY:N39 Elternabend - 09.05.2025
DESCRIPTION:Ihr wolltet schon immer mal mit euren Eltern gemeinsam feiern gehen? Dann ist der Elternabend im N39 das perfekte Event für euch. Unter dem Motto ‚bring your parents party‘ ist es ausdrücklich erwünscht\, dass ihr mindestens einen eurer Elternteile mit zur Party bringt. Es läuft 80er/90er und Club Sound.
URL:https://club-n39.de/event/n39-elternabend-09-05-2025/
LOCATION:Club N39\, Markt 17\, Leipzig\, Sachsen\, 04109\, Germany
CATEGORIES:N39 Elternabend
ATTACH;FMTTYPE=image/jpeg:https://club-n39.de/wp-content/uploads/2025/04/Club_N39_Leipzig_Event08.jpg
ORGANIZER;CN="Club N39":MAILTO:alex@club-n39.de
END:VEVENT
BEGIN:VEVENT
DTSTART;TZID=Europe/Berlin:20250510T230000
DTEND;TZID=Europe/Berlin:20250511T050000
DTSTAMP:20260420T084455
CREATED:20250407T073503Z
LAST-MODIFIED:20250407T073503Z
UID:10000014-1746918000-1746939600@club-n39.de
SUMMARY:N39 Nights - 10.05.2025
DESCRIPTION:Für 5 Euro Eintritt im neu geöffneten Club N39 am Leipziger Marktplatz feiern. Dresscode? Kommt wie ihr euch fühlt! Wir finden es nicht mehr zeitgemäß Menschen vorzuschreiben\, wie sie sich kleiden sollen. \nMusik auf 2 Floors\nN39 West mit House\, Charts & ClubSound\nN39 East mit All Mixed (90er/2000er/2010er/Klassiker) \nStart 23 Uhr \nWir freuen uns auf euch! \n#ClubN39 #Leipzig #Party
URL:https://club-n39.de/event/n39-nights-10-05-2025/
LOCATION:Club N39\, Markt 17\, Leipzig\, Sachsen\, 04109\, Germany
CATEGORIES:N39 Nights
ATTACH;FMTTYPE=image/jpeg:https://club-n39.de/wp-content/uploads/2025/04/Club_N39_Leipzig_Event09.jpg
ORGANIZER;CN="Club N39":MAILTO:alex@club-n39.de
END:VEVENT
BEGIN:VEVENT
DTSTART;TZID=Europe/Berlin:20250517T230000
DTEND;TZID=Europe/Berlin:20250518T050000
DTSTAMP:20260420T084455
CREATED:20250407T073630Z
LAST-MODIFIED:20250407T073630Z
UID:10000015-1747522800-1747544400@club-n39.de
SUMMARY:N39 Nights - 17.05.2025
DESCRIPTION:Für 5 Euro Eintritt im neu geöffneten Club N39 am Leipziger Marktplatz feiern. Dresscode? Kommt wie ihr euch fühlt! Wir finden es nicht mehr zeitgemäß Menschen vorzuschreiben\, wie sie sich kleiden sollen. \nMusik auf 2 Floors\nN39 West mit House\, Charts & ClubSound\nN39 East mit All Mixed (90er/2000er/2010er/Klassiker) \nStart 23 Uhr \nWir freuen uns auf euch! \n#ClubN39 #Leipzig #Party
URL:https://club-n39.de/event/n39-nights-17-05-2025/
LOCATION:Club N39\, Markt 17\, Leipzig\, Sachsen\, 04109\, Germany
CATEGORIES:N39 Nights
ATTACH;FMTTYPE=image/jpeg:https://club-n39.de/wp-content/uploads/2025/04/Club_N39_Leipzig_Event10.jpg
ORGANIZER;CN="Club N39":MAILTO:alex@club-n39.de
END:VEVENT
BEGIN:VEVENT
DTSTART;TZID=Europe/Berlin:20250524T230000
DTEND;TZID=Europe/Berlin:20250525T050000
DTSTAMP:20260420T084455
CREATED:20250407T073735Z
LAST-MODIFIED:20250407T073830Z
UID:10000016-1748127600-1748149200@club-n39.de
SUMMARY:N39 Nights - 24.05.2025
DESCRIPTION:Für 5 Euro Eintritt im neu geöffneten Club N39 am Leipziger Marktplatz feiern. Dresscode? Kommt wie ihr euch fühlt! Wir finden es nicht mehr zeitgemäß Menschen vorzuschreiben\, wie sie sich kleiden sollen. \nMusik auf 2 Floors\nN39 West mit House\, Charts & ClubSound\nN39 East mit All Mixed (90er/2000er/2010er/Klassiker) \nStart 23 Uhr \nWir freuen uns auf euch! \n#ClubN39 #Leipzig #Party
URL:https://club-n39.de/event/n39-nights-24-05-2025/
LOCATION:Club N39\, Markt 17\, Leipzig\, Sachsen\, 04109\, Germany
CATEGORIES:N39 Nights
ATTACH;FMTTYPE=image/jpeg:https://club-n39.de/wp-content/uploads/2025/04/Club_N39_Leipzig_Event11.jpg
ORGANIZER;CN="Club N39":MAILTO:alex@club-n39.de
END:VEVENT
BEGIN:VEVENT
DTSTART;TZID=Europe/Berlin:20250528T230000
DTEND;TZID=Europe/Berlin:20250529T050000
DTSTAMP:20260420T084455
CREATED:20250507T081848Z
LAST-MODIFIED:20250507T081848Z
UID:10000029-1748473200-1748494800@club-n39.de
SUMMARY:N39 Hiphop Nights – 28.05.2025
DESCRIPTION:Die N39 HipHop Nights gehen in die nächste Runde.\nFeiert im neu geöffneten Club N39 am Leipziger Marktplatz. Dresscode? Kommt wie ihr euch fühlt! Wir finden es nicht mehr zeitgemäß Menschen vorzuschreiben\, wie sie sich kleiden sollen. \nMusik auf 2 Floors\nN39 West mit HipHop\, Reggaeton & Latin\nN39 East mit All Mixed (90er/2000er/2010er/Klassiker) \nStart 23 Uhr \nWir freuen uns auf euch! \n#ClubN39 #Leipzig
URL:https://club-n39.de/event/n39-hiphop-nights-28-05-2025/
LOCATION:Club N39\, Markt 17\, Leipzig\, Sachsen\, 04109\, Germany
CATEGORIES:N39 Hiphop Nights
ATTACH;FMTTYPE=image/jpeg:https://club-n39.de/wp-content/uploads/2025/05/N39-HIPHOP-NIGHT-28-05.jpg
END:VEVENT
BEGIN:VEVENT
DTSTART;TZID=Europe/Berlin:20250531T230000
DTEND;TZID=Europe/Berlin:20250601T050000
DTSTAMP:20260420T084455
CREATED:20250407T074019Z
LAST-MODIFIED:20250407T074019Z
UID:10000017-1748732400-1748754000@club-n39.de
SUMMARY:N39 Nights - 31.05.2025
DESCRIPTION:Für 5 Euro Eintritt im neu geöffneten Club N39 am Leipziger Marktplatz feiern. Dresscode? Kommt wie ihr euch fühlt! Wir finden es nicht mehr zeitgemäß Menschen vorzuschreiben\, wie sie sich kleiden sollen. \nMusik auf 2 Floors\nN39 West mit House\, Charts & ClubSound\nN39 East mit All Mixed (90er/2000er/2010er/Klassiker) \nStart 23 Uhr \nWir freuen uns auf euch! \n#ClubN39 #Leipzig #Party
URL:https://club-n39.de/event/n39-nights-31-05-2025/
LOCATION:Club N39\, Markt 17\, Leipzig\, Sachsen\, 04109\, Germany
CATEGORIES:N39 Nights
ATTACH;FMTTYPE=image/jpeg:https://club-n39.de/wp-content/uploads/2025/04/Club_N39_Leipzig_Event12.jpg
ORGANIZER;CN="Club N39":MAILTO:alex@club-n39.de
END:VEVENT
END:VCALENDAR