BEGIN:VCALENDAR
VERSION:2.0
PRODID:-//Club N39 - ECPv6.15.20//NONSGML v1.0//EN
CALSCALE:GREGORIAN
METHOD:PUBLISH
X-WR-CALNAME:Club N39
X-ORIGINAL-URL:https://club-n39.de
X-WR-CALDESC:Veranstaltungen für Club N39
REFRESH-INTERVAL;VALUE=DURATION:PT1H
X-Robots-Tag:noindex
X-PUBLISHED-TTL:PT1H
BEGIN:VTIMEZONE
TZID:Europe/Berlin
BEGIN:DAYLIGHT
TZOFFSETFROM:+0100
TZOFFSETTO:+0200
TZNAME:CEST
DTSTART:20240331T010000
END:DAYLIGHT
BEGIN:STANDARD
TZOFFSETFROM:+0200
TZOFFSETTO:+0100
TZNAME:CET
DTSTART:20241027T010000
END:STANDARD
BEGIN:DAYLIGHT
TZOFFSETFROM:+0100
TZOFFSETTO:+0200
TZNAME:CEST
DTSTART:20250330T010000
END:DAYLIGHT
BEGIN:STANDARD
TZOFFSETFROM:+0200
TZOFFSETTO:+0100
TZNAME:CET
DTSTART:20251026T010000
END:STANDARD
BEGIN:DAYLIGHT
TZOFFSETFROM:+0100
TZOFFSETTO:+0200
TZNAME:CEST
DTSTART:20260329T010000
END:DAYLIGHT
BEGIN:STANDARD
TZOFFSETFROM:+0200
TZOFFSETTO:+0100
TZNAME:CET
DTSTART:20261025T010000
END:STANDARD
END:VTIMEZONE
BEGIN:VEVENT
DTSTART;TZID=Europe/Berlin:20250906T230000
DTEND;TZID=Europe/Berlin:20250907T050000
DTSTAMP:20260420T021011
CREATED:20250728T145421Z
LAST-MODIFIED:20250728T155040Z
UID:10000041-1757199600-1757221200@club-n39.de
SUMMARY:N39 Nights - 06.09.2025
DESCRIPTION:Für 5 Euro Eintritt im neu geöffneten Club N39 am Leipziger Marktplatz feiern. Dresscode? Kommt wie ihr euch fühlt! Wir finden es nicht mehr zeitgemäß Menschen vorzuschreiben\, wie sie sich kleiden sollen. \nMusik auf 2 Floors\nN39 West mit House\, Charts & ClubSound\nN39 East mit All Mixed (90er/2000er/2010er/Klassiker) \nStart 23 Uhr \nWir freuen uns auf euch! \n#ClubN39 #Leipzig #Party
URL:https://club-n39.de/event/n39-nights-06-09-2025/
LOCATION:Club N39\, Markt 17\, Leipzig\, Sachsen\, 04109\, Germany
CATEGORIES:N39 Nights
ATTACH;FMTTYPE=image/jpeg:https://club-n39.de/wp-content/uploads/2025/07/club_n39_leipzig_events_2025_027.jpg
ORGANIZER;CN="Club N39":MAILTO:alex@club-n39.de
END:VEVENT
BEGIN:VEVENT
DTSTART;TZID=Europe/Berlin:20250912T230000
DTEND;TZID=Europe/Berlin:20250913T050000
DTSTAMP:20260420T021011
CREATED:20250728T145545Z
LAST-MODIFIED:20250728T155052Z
UID:10000042-1757718000-1757739600@club-n39.de
SUMMARY:N39 Hiphop Nights - 12.09.2025
DESCRIPTION:Die N39 HipHop Nights gehen in die nächste Runde.\nFeiert im neu geöffneten Club N39 am Leipziger Marktplatz. Dresscode? Kommt wie ihr euch fühlt! Wir finden es nicht mehr zeitgemäß Menschen vorzuschreiben\, wie sie sich kleiden sollen. \nMusik auf 2 Floors\nN39 West mit HipHop\, Reggaeton & Latin\nN39 East mit All Mixed (90er/2000er/2010er/Klassiker) \nStart 23 Uhr \nWir freuen uns auf euch! \n#ClubN39 #Leipzig
URL:https://club-n39.de/event/n39-hiphop-nights-12-09-2025/
LOCATION:Club N39\, Markt 17\, Leipzig\, Sachsen\, 04109\, Germany
CATEGORIES:N39 Hiphop Nights
ATTACH;FMTTYPE=image/jpeg:https://club-n39.de/wp-content/uploads/2025/07/club_n39_leipzig_events_2025_028.jpg
END:VEVENT
BEGIN:VEVENT
DTSTART;TZID=Europe/Berlin:20250913T230000
DTEND;TZID=Europe/Berlin:20250914T050000
DTSTAMP:20260420T021011
CREATED:20250728T145710Z
LAST-MODIFIED:20250728T155159Z
UID:10000043-1757804400-1757826000@club-n39.de
SUMMARY:N39 Nights - 13.09.2025
DESCRIPTION:Für 5 Euro Eintritt im neu geöffneten Club N39 am Leipziger Marktplatz feiern. Dresscode? Kommt wie ihr euch fühlt! Wir finden es nicht mehr zeitgemäß Menschen vorzuschreiben\, wie sie sich kleiden sollen. \nMusik auf 2 Floors\nN39 West mit House\, Charts & ClubSound\nN39 East mit All Mixed (90er/2000er/2010er/Klassiker) \nStart 23 Uhr \nWir freuen uns auf euch! \n#ClubN39 #Leipzig #Party
URL:https://club-n39.de/event/n39-nights-13-09-2025/
LOCATION:Club N39\, Markt 17\, Leipzig\, Sachsen\, 04109\, Germany
CATEGORIES:N39 Nights
ATTACH;FMTTYPE=image/jpeg:https://club-n39.de/wp-content/uploads/2025/07/club_n39_leipzig_events_2025_029.jpg
ORGANIZER;CN="Club N39":MAILTO:alex@club-n39.de
END:VEVENT
BEGIN:VEVENT
DTSTART;TZID=Europe/Berlin:20250920T230000
DTEND;TZID=Europe/Berlin:20250921T050000
DTSTAMP:20260420T021011
CREATED:20250728T145829Z
LAST-MODIFIED:20250728T155212Z
UID:10000044-1758409200-1758430800@club-n39.de
SUMMARY:N39 Nights - 20.09.2025
DESCRIPTION:Für 5 Euro Eintritt im neu geöffneten Club N39 am Leipziger Marktplatz feiern. Dresscode? Kommt wie ihr euch fühlt! Wir finden es nicht mehr zeitgemäß Menschen vorzuschreiben\, wie sie sich kleiden sollen. \nMusik auf 2 Floors\nN39 West mit House\, Charts & ClubSound\nN39 East mit All Mixed (90er/2000er/2010er/Klassiker) \nStart 23 Uhr \nWir freuen uns auf euch! \n#ClubN39 #Leipzig #Party
URL:https://club-n39.de/event/n39-nights-20-09-2025/
LOCATION:Club N39\, Markt 17\, Leipzig\, Sachsen\, 04109\, Germany
CATEGORIES:N39 Nights
ATTACH;FMTTYPE=image/jpeg:https://club-n39.de/wp-content/uploads/2025/07/club_n39_leipzig_events_2025_030.jpg
ORGANIZER;CN="Club N39":MAILTO:alex@club-n39.de
END:VEVENT
BEGIN:VEVENT
DTSTART;TZID=Europe/Berlin:20250926T200000
DTEND;TZID=Europe/Berlin:20250927T010000
DTSTAMP:20260420T021011
CREATED:20250728T150058Z
LAST-MODIFIED:20250728T155356Z
UID:10000045-1758916800-1758934800@club-n39.de
SUMMARY:N39 Elternabend - 26.09.2025
DESCRIPTION:Ihr wolltet schon immer mal mit euren Eltern gemeinsam feiern gehen? Dann ist der Elternabend im N39 das perfekte Event für euch. Unter dem Motto ‚bring your parents party‘ ist es ausdrücklich erwünscht\, dass ihr mindestens einen eurer Elternteile mit zur Party bringt. Es läuft 80er/90er und Club Sound.
URL:https://club-n39.de/event/n39-elternabend-26-09-2025/
LOCATION:Club N39\, Markt 17\, Leipzig\, Sachsen\, 04109\, Germany
CATEGORIES:N39 Elternabend
ATTACH;FMTTYPE=image/jpeg:https://club-n39.de/wp-content/uploads/2025/07/club_n39_leipzig_events_2025_031.jpg
ORGANIZER;CN="Club N39":MAILTO:alex@club-n39.de
END:VEVENT
BEGIN:VEVENT
DTSTART;TZID=Europe/Berlin:20250927T230000
DTEND;TZID=Europe/Berlin:20250928T050000
DTSTAMP:20260420T021011
CREATED:20250728T150309Z
LAST-MODIFIED:20250728T155238Z
UID:10000046-1759014000-1759035600@club-n39.de
SUMMARY:N39 Nights - 27.09.2025
DESCRIPTION:Für 5 Euro Eintritt im neu geöffneten Club N39 am Leipziger Marktplatz feiern. Dresscode? Kommt wie ihr euch fühlt! Wir finden es nicht mehr zeitgemäß Menschen vorzuschreiben\, wie sie sich kleiden sollen. \nMusik auf 2 Floors\nN39 West mit House\, Charts & ClubSound\nN39 East mit All Mixed (90er/2000er/2010er/Klassiker) \nStart 23 Uhr \nWir freuen uns auf euch! \n#ClubN39 #Leipzig #Party
URL:https://club-n39.de/event/n39-nights-27-09-2025/
LOCATION:Club N39\, Markt 17\, Leipzig\, Sachsen\, 04109\, Germany
CATEGORIES:N39 Nights
ATTACH;FMTTYPE=image/jpeg:https://club-n39.de/wp-content/uploads/2025/07/club_n39_leipzig_events_2025_032.jpg
ORGANIZER;CN="Club N39":MAILTO:alex@club-n39.de
END:VEVENT
END:VCALENDAR