BEGIN:VCALENDAR
VERSION:2.0
PRODID:-//Club N39 - ECPv6.15.20//NONSGML v1.0//EN
CALSCALE:GREGORIAN
METHOD:PUBLISH
X-ORIGINAL-URL:https://club-n39.de
X-WR-CALDESC:Veranstaltungen für Club N39
REFRESH-INTERVAL;VALUE=DURATION:PT1H
X-Robots-Tag:noindex
X-PUBLISHED-TTL:PT1H
BEGIN:VTIMEZONE
TZID:Europe/Berlin
BEGIN:DAYLIGHT
TZOFFSETFROM:+0100
TZOFFSETTO:+0200
TZNAME:CEST
DTSTART:20240331T010000
END:DAYLIGHT
BEGIN:STANDARD
TZOFFSETFROM:+0200
TZOFFSETTO:+0100
TZNAME:CET
DTSTART:20241027T010000
END:STANDARD
BEGIN:DAYLIGHT
TZOFFSETFROM:+0100
TZOFFSETTO:+0200
TZNAME:CEST
DTSTART:20250330T010000
END:DAYLIGHT
BEGIN:STANDARD
TZOFFSETFROM:+0200
TZOFFSETTO:+0100
TZNAME:CET
DTSTART:20251026T010000
END:STANDARD
BEGIN:DAYLIGHT
TZOFFSETFROM:+0100
TZOFFSETTO:+0200
TZNAME:CEST
DTSTART:20260329T010000
END:DAYLIGHT
BEGIN:STANDARD
TZOFFSETFROM:+0200
TZOFFSETTO:+0100
TZNAME:CET
DTSTART:20261025T010000
END:STANDARD
END:VTIMEZONE
BEGIN:VEVENT
DTSTART;TZID=Europe/Berlin:20251002T230000
DTEND;TZID=Europe/Berlin:20251003T050000
DTSTAMP:20260420T004053
CREATED:20250728T150433Z
LAST-MODIFIED:20250728T155249Z
UID:10000047-1759446000-1759467600@club-n39.de
SUMMARY:N39 Hiphop Nights - 02.10.2025
DESCRIPTION:Die N39 HipHop Nights gehen in die nächste Runde.\nFeiert im neu geöffneten Club N39 am Leipziger Marktplatz. Dresscode? Kommt wie ihr euch fühlt! Wir finden es nicht mehr zeitgemäß Menschen vorzuschreiben\, wie sie sich kleiden sollen. \nMusik auf 2 Floors\nN39 West mit HipHop\, Reggaeton & Latin\nN39 East mit All Mixed (90er/2000er/2010er/Klassiker) \nStart 23 Uhr \nWir freuen uns auf euch! \n#ClubN39 #Leipzig
URL:https://club-n39.de/event/n39-hiphop-nights-02-10-2025/
LOCATION:Club N39\, Markt 17\, Leipzig\, Sachsen\, 04109\, Germany
CATEGORIES:N39 Hiphop Nights
ATTACH;FMTTYPE=image/jpeg:https://club-n39.de/wp-content/uploads/2025/07/club_n39_leipzig_events_2025_033.jpg
ORGANIZER;CN="Club N39":MAILTO:alex@club-n39.de
END:VEVENT
BEGIN:VEVENT
DTSTART;TZID=Europe/Berlin:20251004T230000
DTEND;TZID=Europe/Berlin:20251005T050000
DTSTAMP:20260420T004053
CREATED:20250728T150608Z
LAST-MODIFIED:20250728T155301Z
UID:10000048-1759618800-1759640400@club-n39.de
SUMMARY:N39 Nights - 04.10.2025
DESCRIPTION:Für 5 Euro Eintritt im neu geöffneten Club N39 am Leipziger Marktplatz feiern. Dresscode? Kommt wie ihr euch fühlt! Wir finden es nicht mehr zeitgemäß Menschen vorzuschreiben\, wie sie sich kleiden sollen. \nMusik auf 2 Floors\nN39 West mit House\, Charts & ClubSound\nN39 East mit All Mixed (90er/2000er/2010er/Klassiker) \nStart 23 Uhr \nWir freuen uns auf euch! \n#ClubN39 #Leipzig #Party
URL:https://club-n39.de/event/n39-nights-04-10-2025/
LOCATION:Club N39\, Markt 17\, Leipzig\, Sachsen\, 04109\, Germany
CATEGORIES:N39 Nights
ATTACH;FMTTYPE=image/jpeg:https://club-n39.de/wp-content/uploads/2025/07/club_n39_leipzig_events_2025_034.jpg
ORGANIZER;CN="Club N39":MAILTO:alex@club-n39.de
END:VEVENT
BEGIN:VEVENT
DTSTART;TZID=Europe/Berlin:20251011T230000
DTEND;TZID=Europe/Berlin:20251012T050000
DTSTAMP:20260420T004053
CREATED:20250728T150751Z
LAST-MODIFIED:20250728T150751Z
UID:10000049-1760223600-1760245200@club-n39.de
SUMMARY:N39 Nights - 11.10.2025
DESCRIPTION:Für 5 Euro Eintritt im neu geöffneten Club N39 am Leipziger Marktplatz feiern. Dresscode? Kommt wie ihr euch fühlt! Wir finden es nicht mehr zeitgemäß Menschen vorzuschreiben\, wie sie sich kleiden sollen. \nMusik auf 2 Floors\nN39 West mit House\, Charts & ClubSound\nN39 East mit All Mixed (90er/2000er/2010er/Klassiker) \nStart 23 Uhr \nWir freuen uns auf euch! \n#ClubN39 #Leipzig #Party
URL:https://club-n39.de/event/n39-nights-11-10-2025/
LOCATION:Club N39\, Markt 17\, Leipzig\, Sachsen\, 04109\, Germany
CATEGORIES:N39 Nights
ATTACH;FMTTYPE=image/jpeg:https://club-n39.de/wp-content/uploads/2025/07/club_n39_leipzig_events_2025_035.jpg
ORGANIZER;CN="Club N39":MAILTO:alex@club-n39.de
END:VEVENT
BEGIN:VEVENT
DTSTART;TZID=Europe/Berlin:20251017T230000
DTEND;TZID=Europe/Berlin:20251018T050000
DTSTAMP:20260420T004053
CREATED:20250728T150956Z
LAST-MODIFIED:20251006T211356Z
UID:10000050-1760742000-1760763600@club-n39.de
SUMMARY:ALLE FARBEN x N39
DESCRIPTION:Wir freuen uns sehr euch unseren ersten Staract im Club N39 verkünden zu dürfen – ALLE FARBEN! \nMit über 2\,5 Milliarden Streams ist er seit 2014 nicht mehr aus der internationalen Musikbranche wegzudenken. Auf unzähligen Mainstages diesen Sommer gespielt\, kommt er am 17.10.2025 zu uns nach Leipzig! \nStart: 23 Uhr \nWEST FLOOR:\nALLE FARBEN\nRobexx\n&us \nEAST FLOOR:\nDJ Zaro \nuuuuuund los! \n#N39
URL:https://club-n39.de/event/n39-alle-farben-17-10-2025/
LOCATION:Club N39\, Markt 17\, Leipzig\, Sachsen\, 04109\, Germany
CATEGORIES:N39 Nights
ATTACH;FMTTYPE=image/jpeg:https://club-n39.de/wp-content/uploads/2025/07/club_n39_leipzig_events_2025_036.jpg
ORGANIZER;CN="Club N39":MAILTO:alex@club-n39.de
END:VEVENT
BEGIN:VEVENT
DTSTART;TZID=Europe/Berlin:20251018T230000
DTEND;TZID=Europe/Berlin:20251019T050000
DTSTAMP:20260420T004053
CREATED:20250728T151131Z
LAST-MODIFIED:20250728T151131Z
UID:10000051-1760828400-1760850000@club-n39.de
SUMMARY:N39 Nights - 18.10.2025
DESCRIPTION:Für 5 Euro Eintritt im neu geöffneten Club N39 am Leipziger Marktplatz feiern. Dresscode? Kommt wie ihr euch fühlt! Wir finden es nicht mehr zeitgemäß Menschen vorzuschreiben\, wie sie sich kleiden sollen. \nMusik auf 2 Floors\nN39 West mit House\, Charts & ClubSound\nN39 East mit All Mixed (90er/2000er/2010er/Klassiker) \nStart 23 Uhr \nWir freuen uns auf euch! \n#ClubN39 #Leipzig #Party
URL:https://club-n39.de/event/n39-nights-18-10-2025/
LOCATION:Club N39\, Markt 17\, Leipzig\, Sachsen\, 04109\, Germany
CATEGORIES:N39 Nights
ATTACH;FMTTYPE=image/jpeg:https://club-n39.de/wp-content/uploads/2025/07/club_n39_leipzig_events_2025_037.jpg
ORGANIZER;CN="Club N39":MAILTO:alex@club-n39.de
END:VEVENT
BEGIN:VEVENT
DTSTART;TZID=Europe/Berlin:20251024T230000
DTEND;TZID=Europe/Berlin:20251025T050000
DTSTAMP:20260420T004053
CREATED:20250728T151321Z
LAST-MODIFIED:20250728T151321Z
UID:10000052-1761346800-1761368400@club-n39.de
SUMMARY:N39 Latino Nights - 24.10.2025
DESCRIPTION:
URL:https://club-n39.de/event/n39-latino-nights-24-10-2025/
LOCATION:Club N39\, Markt 17\, Leipzig\, Sachsen\, 04109\, Germany
CATEGORIES:N39 Latino Nights
ATTACH;FMTTYPE=image/jpeg:https://club-n39.de/wp-content/uploads/2025/07/club_n39_leipzig_events_2025_038.jpg
ORGANIZER;CN="Club N39":MAILTO:alex@club-n39.de
END:VEVENT
BEGIN:VEVENT
DTSTART;TZID=Europe/Berlin:20251025T230000
DTEND;TZID=Europe/Berlin:20251026T050000
DTSTAMP:20260420T004053
CREATED:20250728T151505Z
LAST-MODIFIED:20250728T151505Z
UID:10000053-1761433200-1761454800@club-n39.de
SUMMARY:N39 Nights - 25.10.2025
DESCRIPTION:Für 5 Euro Eintritt im neu geöffneten Club N39 am Leipziger Marktplatz feiern. Dresscode? Kommt wie ihr euch fühlt! Wir finden es nicht mehr zeitgemäß Menschen vorzuschreiben\, wie sie sich kleiden sollen. \nMusik auf 2 Floors\nN39 West mit House\, Charts & ClubSound\nN39 East mit All Mixed (90er/2000er/2010er/Klassiker) \nStart 23 Uhr \nWir freuen uns auf euch! \n#ClubN39 #Leipzig #Party
URL:https://club-n39.de/event/n39-nights-25-10-2025/
LOCATION:Club N39\, Markt 17\, Leipzig\, Sachsen\, 04109\, Germany
CATEGORIES:N39 Nights
ATTACH;FMTTYPE=image/jpeg:https://club-n39.de/wp-content/uploads/2025/07/club_n39_leipzig_events_2025_039.jpg
ORGANIZER;CN="Club N39":MAILTO:alex@club-n39.de
END:VEVENT
BEGIN:VEVENT
DTSTART;TZID=Europe/Berlin:20251030T220000
DTEND;TZID=Europe/Berlin:20251031T050000
DTSTAMP:20260420T004053
CREATED:20250728T151711Z
LAST-MODIFIED:20250728T151854Z
UID:10000054-1761861600-1761886800@club-n39.de
SUMMARY:N39 Halloween - 30.10.2025
DESCRIPTION:Für 5 Euro Eintritt im neu geöffneten Club N39 am Leipziger Marktplatz feiern. Dresscode? Kommt wie ihr euch fühlt! Wir finden es nicht mehr zeitgemäß Menschen vorzuschreiben\, wie sie sich kleiden sollen. \nMusik auf 2 Floors\nN39 West mit House\, Charts & ClubSound\nN39 East mit All Mixed (90er/2000er/2010er/Klassiker) \nStart 23 Uhr \nWir freuen uns auf euch! \n#ClubN39 #Leipzig #Party
URL:https://club-n39.de/event/n39-halloween-30-10-2025/
LOCATION:Club N39\, Markt 17\, Leipzig\, Sachsen\, 04109\, Germany
CATEGORIES:N39 Halloween,N39 Nights
ATTACH;FMTTYPE=image/jpeg:https://club-n39.de/wp-content/uploads/2025/07/club_n39_leipzig_events_2025_040.jpg
ORGANIZER;CN="Club N39":MAILTO:alex@club-n39.de
END:VEVENT
END:VCALENDAR