BEGIN:VCALENDAR
VERSION:2.0
PRODID:-//Club N39 - ECPv6.15.20//NONSGML v1.0//EN
CALSCALE:GREGORIAN
METHOD:PUBLISH
X-ORIGINAL-URL:https://club-n39.de
X-WR-CALDESC:Veranstaltungen für Club N39
REFRESH-INTERVAL;VALUE=DURATION:PT1H
X-Robots-Tag:noindex
X-PUBLISHED-TTL:PT1H
BEGIN:VTIMEZONE
TZID:Europe/Berlin
BEGIN:DAYLIGHT
TZOFFSETFROM:+0100
TZOFFSETTO:+0200
TZNAME:CEST
DTSTART:20240331T010000
END:DAYLIGHT
BEGIN:STANDARD
TZOFFSETFROM:+0200
TZOFFSETTO:+0100
TZNAME:CET
DTSTART:20241027T010000
END:STANDARD
BEGIN:DAYLIGHT
TZOFFSETFROM:+0100
TZOFFSETTO:+0200
TZNAME:CEST
DTSTART:20250330T010000
END:DAYLIGHT
BEGIN:STANDARD
TZOFFSETFROM:+0200
TZOFFSETTO:+0100
TZNAME:CET
DTSTART:20251026T010000
END:STANDARD
BEGIN:DAYLIGHT
TZOFFSETFROM:+0100
TZOFFSETTO:+0200
TZNAME:CEST
DTSTART:20260329T010000
END:DAYLIGHT
BEGIN:STANDARD
TZOFFSETFROM:+0200
TZOFFSETTO:+0100
TZNAME:CET
DTSTART:20261025T010000
END:STANDARD
END:VTIMEZONE
BEGIN:VEVENT
DTSTART;TZID=Europe/Berlin:20251101T230000
DTEND;TZID=Europe/Berlin:20251102T050000
DTSTAMP:20260419T230916
CREATED:20250728T152048Z
LAST-MODIFIED:20250728T152048Z
UID:10000055-1762038000-1762059600@club-n39.de
SUMMARY:N39 Nights - 01.11.2025
DESCRIPTION:Für 5 Euro Eintritt im neu geöffneten Club N39 am Leipziger Marktplatz feiern. Dresscode? Kommt wie ihr euch fühlt! Wir finden es nicht mehr zeitgemäß Menschen vorzuschreiben\, wie sie sich kleiden sollen. \nMusik auf 2 Floors\nN39 West mit House\, Charts & ClubSound\nN39 East mit All Mixed (90er/2000er/2010er/Klassiker) \nStart 23 Uhr \nWir freuen uns auf euch! \n#ClubN39 #Leipzig #Party
URL:https://club-n39.de/event/n39-nights-01-11-2025/
LOCATION:Club N39\, Markt 17\, Leipzig\, Sachsen\, 04109\, Germany
CATEGORIES:N39 Nights
ATTACH;FMTTYPE=image/jpeg:https://club-n39.de/wp-content/uploads/2025/07/club_n39_leipzig_events_2025_041.jpg
ORGANIZER;CN="Club N39":MAILTO:alex@club-n39.de
END:VEVENT
BEGIN:VEVENT
DTSTART;TZID=Europe/Berlin:20251108T230000
DTEND;TZID=Europe/Berlin:20251109T050000
DTSTAMP:20260419T230916
CREATED:20250728T152245Z
LAST-MODIFIED:20250728T152245Z
UID:10000056-1762642800-1762664400@club-n39.de
SUMMARY:N39 Nights - 08.11.2025
DESCRIPTION:Für 5 Euro Eintritt im neu geöffneten Club N39 am Leipziger Marktplatz feiern. Dresscode? Kommt wie ihr euch fühlt! Wir finden es nicht mehr zeitgemäß Menschen vorzuschreiben\, wie sie sich kleiden sollen. \nMusik auf 2 Floors\nN39 West mit House\, Charts & ClubSound\nN39 East mit All Mixed (90er/2000er/2010er/Klassiker) \nStart 23 Uhr \nWir freuen uns auf euch! \n#ClubN39 #Leipzig #Party
URL:https://club-n39.de/event/n39-nights-08-11-2025/
LOCATION:Club N39\, Markt 17\, Leipzig\, Sachsen\, 04109\, Germany
CATEGORIES:N39 Nights
ATTACH;FMTTYPE=image/jpeg:https://club-n39.de/wp-content/uploads/2025/07/club_n39_leipzig_events_2025_042.jpg
ORGANIZER;CN="Club N39":MAILTO:alex@club-n39.de
END:VEVENT
BEGIN:VEVENT
DTSTART;TZID=Europe/Berlin:20251115T230000
DTEND;TZID=Europe/Berlin:20251116T050000
DTSTAMP:20260419T230916
CREATED:20250728T152434Z
LAST-MODIFIED:20250728T152434Z
UID:10000057-1763247600-1763269200@club-n39.de
SUMMARY:N39 Nights - 15.11.2025
DESCRIPTION:Für 5 Euro Eintritt im neu geöffneten Club N39 am Leipziger Marktplatz feiern. Dresscode? Kommt wie ihr euch fühlt! Wir finden es nicht mehr zeitgemäß Menschen vorzuschreiben\, wie sie sich kleiden sollen. \nMusik auf 2 Floors\nN39 West mit House\, Charts & ClubSound\nN39 East mit All Mixed (90er/2000er/2010er/Klassiker) \nStart 23 Uhr \nWir freuen uns auf euch! \n#ClubN39 #Leipzig #Party
URL:https://club-n39.de/event/n39-nights-15-11-2025/
LOCATION:Club N39\, Markt 17\, Leipzig\, Sachsen\, 04109\, Germany
CATEGORIES:N39 Nights
ATTACH;FMTTYPE=image/jpeg:https://club-n39.de/wp-content/uploads/2025/07/club_n39_leipzig_events_2025_043.jpg
ORGANIZER;CN="Club N39":MAILTO:alex@club-n39.de
END:VEVENT
BEGIN:VEVENT
DTSTART;TZID=Europe/Berlin:20251118T230000
DTEND;TZID=Europe/Berlin:20251119T050000
DTSTAMP:20260419T230916
CREATED:20250728T152625Z
LAST-MODIFIED:20251112T162924Z
UID:10000058-1763506800-1763528400@club-n39.de
SUMMARY:N39 Nights - 18.11.2025
DESCRIPTION:Für 5 Euro Eintritt im neu geöffneten Club N39 am Leipziger Marktplatz feiern. Dresscode? Kommt wie ihr euch fühlt! Wir finden es nicht mehr zeitgemäß Menschen vorzuschreiben\, wie sie sich kleiden sollen. \nMusik auf 2 Floors\nN39 West mit House\, Charts & ClubSound\nN39 East mit All Mixed (90er/2000er/2010er/Klassiker) \nStart 23 Uhr \nWir freuen uns auf euch! \n#ClubN39 #Leipzig #Party
URL:https://club-n39.de/event/n39-nights-18-11-2025/
LOCATION:Club N39\, Markt 17\, Leipzig\, Sachsen\, 04109\, Germany
CATEGORIES:N39 Nights
ATTACH;FMTTYPE=image/jpeg:https://club-n39.de/wp-content/uploads/2025/07/n39-nights-1811.jpg
ORGANIZER;CN="Club N39":MAILTO:alex@club-n39.de
END:VEVENT
BEGIN:VEVENT
DTSTART;TZID=Europe/Berlin:20251122T230000
DTEND;TZID=Europe/Berlin:20251123T050000
DTSTAMP:20260419T230916
CREATED:20250728T152759Z
LAST-MODIFIED:20250728T152759Z
UID:10000059-1763852400-1763874000@club-n39.de
SUMMARY:N39 Nights - 22.11.2025
DESCRIPTION:Für 5 Euro Eintritt im neu geöffneten Club N39 am Leipziger Marktplatz feiern. Dresscode? Kommt wie ihr euch fühlt! Wir finden es nicht mehr zeitgemäß Menschen vorzuschreiben\, wie sie sich kleiden sollen. \nMusik auf 2 Floors\nN39 West mit House\, Charts & ClubSound\nN39 East mit All Mixed (90er/2000er/2010er/Klassiker) \nStart 23 Uhr \nWir freuen uns auf euch! \n#ClubN39 #Leipzig #Party
URL:https://club-n39.de/event/n39-nights-22-11-2025/
LOCATION:Club N39\, Markt 17\, Leipzig\, Sachsen\, 04109\, Germany
CATEGORIES:N39 Nights
ATTACH;FMTTYPE=image/jpeg:https://club-n39.de/wp-content/uploads/2025/07/club_n39_leipzig_events_2025_045.jpg
ORGANIZER;CN="Club N39":MAILTO:alex@club-n39.de
END:VEVENT
BEGIN:VEVENT
DTSTART;TZID=Europe/Berlin:20251124T210000
DTEND;TZID=Europe/Berlin:20251125T020000
DTSTAMP:20260419T230916
CREATED:20251114T110827Z
LAST-MODIFIED:20251114T111132Z
UID:10000069-1764018000-1764036000@club-n39.de
SUMMARY:PISTE39 x OPENING ⛷️
DESCRIPTION:Es ist OPENING Zeit! ❄️❄️❄️\nMit großer Vorfreude zieht die PISTE39 in Leipzig ein und wird jeden Tag von Montag bis Samstag ab 21 Uhr vom 24. November bis zum 23. Dezember ihre Türen öffnen.\nAm Montag\, den 24. November feiern wir gemeinsam das große OPENING!\nJEDEN Freitag werden wir zudem einen STARACT von unserer Lieblingsinsel präsentieren.\nDazu gibt’s AllMixed\, Partyclassics & Après-Ski – heißen Glühwein und das pure Pistenfieber. ❄️ \nEintritt: 5 Euro ✅ \nMusik: AllMixed\, PartyClassics\, 90/2000er & Après-Ski \n***Freitag/Samstag zudem zweiter Floor *** \nZusätzlich: jeden Tag ab 19 Uhr Glühweinstand in der Passage vor dem Club \n#uuuuundlos #Piste39 #Saison1 #N39 #ApresSki #Pistegutallesgut
URL:https://club-n39.de/event/piste39-x-club-n39-opening/
LOCATION:Club N39\, Markt 17\, Leipzig\, Sachsen\, 04109\, Germany
CATEGORIES:PISTE39 x CLUB N39
ATTACH;FMTTYPE=image/jpeg:https://club-n39.de/wp-content/uploads/2025/11/PIste39-x-n39.jpg
END:VEVENT
BEGIN:VEVENT
DTSTART;TZID=Europe/Berlin:20251125T210000
DTEND;TZID=Europe/Berlin:20251126T020000
DTSTAMP:20260419T230916
CREATED:20251114T111121Z
LAST-MODIFIED:20251114T111151Z
UID:10000070-1764104400-1764122400@club-n39.de
SUMMARY:PISTE39 x OPENING DAY2 ⛷️
DESCRIPTION:Es ist OPENING Zeit! ❄️❄️❄️\nMit großer Vorfreude zieht die PISTE39 in Leipzig ein und wird jeden Tag von Montag bis Samstag ab 21 Uhr vom 24. November bis zum 23. Dezember ihre Türen öffnen.\nAm Dienstag\, den 25. November feiern wir gemeinsam OPENING DIE ZWEITE!\nJEDEN Freitag werden wir zudem einen STARACT von unserer Lieblingsinsel präsentieren.\nDazu gibt’s AllMixed\, Partyclassics & Après-Ski – heißen Glühwein und das pure Pistenfieber. ❄️ \nEintritt: 5 Euro ✅ \nMusik: AllMixed\, PartyClassics\, 90/2000er & Après-Ski \n***Freitag/Samstag zudem zweiter Floor *** \nZusätzlich: jeden Tag ab 19 Uhr Glühweinstand in der Passage vor dem Club \n#uuuuundlos #Piste39 #Saison1 #N39 #ApresSki #Pistegutallesgut
URL:https://club-n39.de/event/piste39-x-club-n39-opening-day2/
LOCATION:Club N39\, Markt 17\, Leipzig\, Sachsen\, 04109\, Germany
CATEGORIES:PISTE39 x CLUB N39
ATTACH;FMTTYPE=image/jpeg:https://club-n39.de/wp-content/uploads/2025/11/PIste39-x-n39.jpg
END:VEVENT
BEGIN:VEVENT
DTSTART;TZID=Europe/Berlin:20251126T210000
DTEND;TZID=Europe/Berlin:20251127T020000
DTSTAMP:20260419T230916
CREATED:20251114T111349Z
LAST-MODIFIED:20251114T111413Z
UID:10000071-1764190800-1764208800@club-n39.de
SUMMARY:PISTE39 x OPENING DAY 3⛷️
DESCRIPTION:Es ist OPENING Zeit! ❄️❄️❄️\nMit großer Vorfreude zieht die PISTE39 in Leipzig ein und wird jeden Tag von Montag bis Samstag ab 21 Uhr vom 24. November bis zum 23. Dezember ihre Türen öffnen.\nAm Mittwoch\, den 26. November feiern wir gemeinsam OPENING DIE DRITTE!\nJEDEN Freitag werden wir zudem einen STARACT von unserer Lieblingsinsel präsentieren.\nDazu gibt’s AllMixed\, Partyclassics & Après-Ski – heißen Glühwein und das pure Pistenfieber. ❄️ \nEintritt: 5 Euro ✅ \nMusik: AllMixed\, PartyClassics\, 90/2000er & Après-Ski \n***Freitag/Samstag zudem zweiter Floor *** \nZusätzlich: jeden Tag ab 19 Uhr Glühweinstand in der Passage vor dem Club \n#uuuuundlos #Piste39 #Saison1 #N39 #ApresSki #Pistegutallesgut
URL:https://club-n39.de/event/piste39-x-club-n39-opening-day-3/
LOCATION:Club N39\, Markt 17\, Leipzig\, Sachsen\, 04109\, Germany
CATEGORIES:PISTE39 x CLUB N39
ATTACH;FMTTYPE=image/jpeg:https://club-n39.de/wp-content/uploads/2025/11/PIste39-x-n39.jpg
END:VEVENT
BEGIN:VEVENT
DTSTART;TZID=Europe/Berlin:20251127T210000
DTEND;TZID=Europe/Berlin:20251128T020000
DTSTAMP:20260419T230917
CREATED:20251114T093805Z
LAST-MODIFIED:20251114T105007Z
UID:10000072-1764277200-1764295200@club-n39.de
SUMMARY:PISTE39 x WEIHNACHTSMARKT⛷️
DESCRIPTION:Mit großer Vorfreude zieht die PISTE39 in Leipzig ein und wird jeden Tag von Montag bis Samstag ab 21 Uhr vom 24. November bis zum 23. Dezember ihre Türen öffnen!\nJEDEN Freitag werden wir zudem einen STARACT von unserer Lieblingsinsel präsentieren! \nDazu gibt’s AllMixed\, Partyclassics & Après-Ski – heißen Glühwein und das pure Pistenfieber. ❄️ \nEintritt: 5 Euro ✅ \nMusik: AllMixed\, PartyClassics\, 90/2000er & Après-Ski \n***Freitag/Samstag zudem zweiter Floor*** \nZusätzlich: jeden Tag ab 19 Uhr Glühweinstand in der Passage vor dem Club \n#uuuuundlos #Piste39 #Saison1 #N39 #ApresSki #Pistegutallesgut
URL:https://club-n39.de/event/piste39-x-club-n39/2025-11-27/
LOCATION:Club N39\, Markt 17\, Leipzig\, Sachsen\, 04109\, Germany
CATEGORIES:PISTE39 x CLUB N39
ATTACH;FMTTYPE=image/jpeg:https://club-n39.de/wp-content/uploads/2025/11/PIste39-x-n39.jpg
END:VEVENT
BEGIN:VEVENT
DTSTART;TZID=Europe/Berlin:20251128T210000
DTEND;TZID=Europe/Berlin:20251129T050000
DTSTAMP:20260419T230917
CREATED:20251114T100510Z
LAST-MODIFIED:20251114T100758Z
UID:10000409-1764363600-1764392400@club-n39.de
SUMMARY:CALVIN KLEINEN x PISTE39 ⛷️
DESCRIPTION:Mit großer Vorfreude zieht die PISTE39 in Leipzig ein und wird jeden Tag ab 21 Uhr vom 24. November bis zum 23. Dezember ihre Türen öffnen .\nJEDEN Freitag werden wir zudem einen STARACT von unserer Lieblingsinsel präsentieren! \nAm Freitag\, den 28. November\, kommt niemand Geringeres als CALVIN KLEINEN zu uns in den Club N39! Bekannt aus dem Bierkönig Mallorcas\, Temptation Island & Co.\, sorgt der TV-Star mit seiner Energie\, seinem Charme und jeder Menge Chaos für eine der wohl lautesten Nächte des Advents. \nEr bringt den Mallorca-Vibe direkt nach Leipzig – mit Partyaction\, Shots\, Selfies und spontanen Showeinlagen.\nDazu gibt’s wie immer AllMixed\, Partyclassics & Après-Ski – heißen Glühwein und das pure Pistenfieber. ❄️ \nN39 WEST:\nAllMixed\, PartyClassics & Après-Ski \nby DJ PISTE\, DJ SNOWMAN & CALVIN KLEINEN \nN39 EAST:\n90/2000/2010er \nby EL BARTHO [Erfurt] \nMusik:  AllMixed | Partyclassics | Après-Ski | Calvin Kleinen live on stage \n#Piste39 #N39 #CalvinKleinen #ApresSki #Pistegutallesgut
URL:https://club-n39.de/event/calvin-kleinen-x-piste39/
LOCATION:Club N39\, Markt 17\, Leipzig\, Sachsen\, 04109\, Germany
CATEGORIES:PISTE39 x CLUB N39
ATTACH;FMTTYPE=image/jpeg:https://club-n39.de/wp-content/uploads/2025/11/CLAVIN-KLEINEN-X-N39.jpg
ORGANIZER;CN="Club N39":MAILTO:alex@club-n39.de
END:VEVENT
BEGIN:VEVENT
DTSTART;TZID=Europe/Berlin:20251129T210000
DTEND;TZID=Europe/Berlin:20251130T050000
DTSTAMP:20260419T230917
CREATED:20251114T105405Z
LAST-MODIFIED:20251114T105405Z
UID:10000412-1764450000-1764478800@club-n39.de
SUMMARY:PISTE39 x WEIHNACHTSMARKT ⛷️
DESCRIPTION:Mit großer Vorfreude zieht die PISTE39 in Leipzig ein und wird jeden Tag ab 21 Uhr vom 24. November bis zum 23. Dezember ihre Türen öffnen!\nJEDEN Freitag werden wir zudem einen STARACT von unserer Lieblingsinsel präsentieren ????\n\nDazu gibt’s wie immer AllMixed\, Partyclassics & Après-Ski – heißen Glühwein und das pure Pistenfieber. ❄️\n\nN39 WEST:\n\nAllMixed\, PartyClassics & Après-Ski\n\nN39 EAST:\n\n90/2000/2010er\n\nTischreservierungen über www.club-n39.de\n\nZusätzlich: jeden Tag ab 19 Uhr Glühweinstand in der Passage vor dem Club\n\nMusik: AllMixed | Partyclassics | Après-Ski\n\n#uuuundlos #Piste39 #N39 #CalvinKleinen #ApresSki #Pistegutallesgut
URL:https://club-n39.de/event/piste39-x-weihnachtsmarkt-samstags/2025-11-29/
LOCATION:Sachsen
CATEGORIES:PISTE39 x CLUB N39
ATTACH;FMTTYPE=image/jpeg:https://club-n39.de/wp-content/uploads/2025/11/PIste39-x-n39.jpg
ORGANIZER;CN="Club N39":MAILTO:alex@club-n39.de
END:VEVENT
END:VCALENDAR