BEGIN:VCALENDAR
VERSION:2.0
PRODID:-//Club N39 - ECPv6.15.20//NONSGML v1.0//EN
CALSCALE:GREGORIAN
METHOD:PUBLISH
X-ORIGINAL-URL:https://club-n39.de
X-WR-CALDESC:Veranstaltungen für Club N39
REFRESH-INTERVAL;VALUE=DURATION:PT1H
X-Robots-Tag:noindex
X-PUBLISHED-TTL:PT1H
BEGIN:VTIMEZONE
TZID:Europe/Berlin
BEGIN:DAYLIGHT
TZOFFSETFROM:+0100
TZOFFSETTO:+0200
TZNAME:CEST
DTSTART:20250330T010000
END:DAYLIGHT
BEGIN:STANDARD
TZOFFSETFROM:+0200
TZOFFSETTO:+0100
TZNAME:CET
DTSTART:20251026T010000
END:STANDARD
BEGIN:DAYLIGHT
TZOFFSETFROM:+0100
TZOFFSETTO:+0200
TZNAME:CEST
DTSTART:20260329T010000
END:DAYLIGHT
BEGIN:STANDARD
TZOFFSETFROM:+0200
TZOFFSETTO:+0100
TZNAME:CET
DTSTART:20261025T010000
END:STANDARD
BEGIN:DAYLIGHT
TZOFFSETFROM:+0100
TZOFFSETTO:+0200
TZNAME:CEST
DTSTART:20270328T010000
END:DAYLIGHT
BEGIN:STANDARD
TZOFFSETFROM:+0200
TZOFFSETTO:+0100
TZNAME:CET
DTSTART:20271031T010000
END:STANDARD
END:VTIMEZONE
BEGIN:VEVENT
DTSTART;TZID=Europe/Berlin:20260228T230000
DTEND;TZID=Europe/Berlin:20260301T050000
DTSTAMP:20260419T164455
CREATED:20260117T141334Z
LAST-MODIFIED:20260117T141334Z
UID:10000427-1772319600-1772341200@club-n39.de
SUMMARY:N39 Nights - 28.02.2026
DESCRIPTION:Für 5 Euro Eintritt im neu geöffneten Club N39 am Leipziger Marktplatz feiern. Dresscode? Kommt wie ihr euch fühlt! Wir finden es nicht mehr zeitgemäß Menschen vorzuschreiben\, wie sie sich kleiden sollen. \nMusik auf 2 Floors\nN39 West mit House\, Charts & ClubSound\nN39 East mit All Mixed (90er/2000er/2010er/Klassiker) \nStart 23 Uhr \nWir freuen uns auf euch! \n#ClubN39 #Leipzig #Party
URL:https://club-n39.de/event/n39-nights-28-02-2026/
LOCATION:Club N39\, Markt 17\, Leipzig\, Sachsen\, 04109\, Germany
CATEGORIES:N39 Nights
ATTACH;FMTTYPE=image/jpeg:https://club-n39.de/wp-content/uploads/2026/01/clubn39-jan-feb-26-1.jpeg
ORGANIZER;CN="Club N39":MAILTO:alex@club-n39.de
END:VEVENT
BEGIN:VEVENT
DTSTART;TZID=Europe/Berlin:20260306T230000
DTEND;TZID=Europe/Berlin:20260307T050000
DTSTAMP:20260419T164455
CREATED:20260304T204130Z
LAST-MODIFIED:20260304T213627Z
UID:10000443-1772838000-1772859600@club-n39.de
SUMMARY:N39 Friday Nights - 06.03.2026
DESCRIPTION:N39 FRIDAY NIGHTS! \nFür 5 Euro Eintritt im neu geöffneten Club N39 am Leipziger Marktplatz feiern. Dresscode? Kommt wie ihr euch fühlt! Wir finden es nicht mehr zeitgemäß Menschen vorzuschreiben\, wie sie sich kleiden sollen. \nMusik auf 2 Floors \nN39 East mit All Mixed (90er/2000er/2010er/Klassiker)\nN39 West mit House\, Charts & ClubSound \nStart 23 Uhr \nWir freuen uns auf euch! \n#ClubN39 #Leipzig
URL:https://club-n39.de/event/n39-friday-nights-06-03-2026/
LOCATION:Sachsen
CATEGORIES:N39 Friday Nights
ATTACH;FMTTYPE=image/jpeg:https://club-n39.de/wp-content/uploads/2026/03/club_n39_events_2026_01.jpg
END:VEVENT
BEGIN:VEVENT
DTSTART;TZID=Europe/Berlin:20260307T230000
DTEND;TZID=Europe/Berlin:20260308T050000
DTSTAMP:20260419T164455
CREATED:20260304T201509Z
LAST-MODIFIED:20260304T201513Z
UID:10000430-1772924400-1772946000@club-n39.de
SUMMARY:N39 Nights - 07.03.2026
DESCRIPTION:Für 5 Euro Eintritt im neu geöffneten Club N39 am Leipziger Marktplatz feiern. Dresscode? Kommt wie ihr euch fühlt! Wir finden es nicht mehr zeitgemäß Menschen vorzuschreiben\, wie sie sich kleiden sollen. \nMusik auf 2 Floors\nN39 West mit House\, Charts & ClubSound\nN39 East mit All Mixed (90er/2000er/2010er/Klassiker) \nStart 23 Uhr \nWir freuen uns auf euch! \n#ClubN39 #Leipzig #Party
URL:https://club-n39.de/event/n39-nights-samstag-2/
LOCATION:Club N39\, Markt 17\, Leipzig\, Sachsen\, 04109\, Germany
CATEGORIES:N39 Nights
ATTACH;FMTTYPE=image/jpeg:https://club-n39.de/wp-content/uploads/2026/03/n39-nights-0703.jpg
ORGANIZER;CN="Club N39":MAILTO:alex@club-n39.de
END:VEVENT
BEGIN:VEVENT
DTSTART;TZID=Europe/Berlin:20260313T230000
DTEND;TZID=Europe/Berlin:20260314T050000
DTSTAMP:20260419T164455
CREATED:20260304T204932Z
LAST-MODIFIED:20260304T214159Z
UID:10000444-1773442800-1773464400@club-n39.de
SUMMARY:N39 Friday Nights - 13.03.2026
DESCRIPTION:N39 FRIDAY NIGHTS! \nFür 5 Euro Eintritt im neu geöffneten Club N39 am Leipziger Marktplatz feiern. Dresscode? Kommt wie ihr euch fühlt! Wir finden es nicht mehr zeitgemäß Menschen vorzuschreiben\, wie sie sich kleiden sollen. \nMusik auf 2 Floors \nN39 East mit All Mixed (90er/2000er/2010er/Klassiker)\nN39 West mit House\, Charts & ClubSound \nStart 23 Uhr \nWir freuen uns auf euch! \n#ClubN39 #Leipzig
URL:https://club-n39.de/event/n39-friday-nights/
LOCATION:Sachsen
CATEGORIES:N39 Friday Nights
ATTACH;FMTTYPE=image/jpeg:https://club-n39.de/wp-content/uploads/2026/03/club_n39_events_2026_02.jpg
END:VEVENT
BEGIN:VEVENT
DTSTART;TZID=Europe/Berlin:20260314T230000
DTEND;TZID=Europe/Berlin:20260315T050000
DTSTAMP:20260419T164455
CREATED:20260304T201637Z
LAST-MODIFIED:20260304T201641Z
UID:10000431-1773529200-1773550800@club-n39.de
SUMMARY:N39 Nights - 14.03.2026
DESCRIPTION:Für 5 Euro Eintritt im neu geöffneten Club N39 am Leipziger Marktplatz feiern. Dresscode? Kommt wie ihr euch fühlt! Wir finden es nicht mehr zeitgemäß Menschen vorzuschreiben\, wie sie sich kleiden sollen. \nMusik auf 2 Floors\nN39 West mit House\, Charts & ClubSound\nN39 East mit All Mixed (90er/2000er/2010er/Klassiker) \nStart 23 Uhr \nWir freuen uns auf euch! \n#ClubN39 #Leipzig #Party
URL:https://club-n39.de/event/n39-nights-samstag-3/
LOCATION:Club N39\, Markt 17\, Leipzig\, Sachsen\, 04109\, Germany
CATEGORIES:N39 Nights
ATTACH;FMTTYPE=image/jpeg:https://club-n39.de/wp-content/uploads/2026/03/club_n39_events_2026_09.jpg
ORGANIZER;CN="Club N39":MAILTO:alex@club-n39.de
END:VEVENT
BEGIN:VEVENT
DTSTART;TZID=Europe/Berlin:20260320T230000
DTEND;TZID=Europe/Berlin:20260321T050000
DTSTAMP:20260419T164455
CREATED:20260304T205142Z
LAST-MODIFIED:20260304T214359Z
UID:10000445-1774047600-1774069200@club-n39.de
SUMMARY:N39 Friday Nights - 20.03.2026
DESCRIPTION:N39 FRIDAY NIGHTS! \nFür 5 Euro Eintritt im neu geöffneten Club N39 am Leipziger Marktplatz feiern. Dresscode? Kommt wie ihr euch fühlt! Wir finden es nicht mehr zeitgemäß Menschen vorzuschreiben\, wie sie sich kleiden sollen. \nMusik auf 2 Floors \nN39 East mit All Mixed (90er/2000er/2010er/Klassiker)\nN39 West mit House\, Charts & ClubSound \nStart 23 Uhr \nWir freuen uns auf euch! \n#ClubN39 #Leipzig
URL:https://club-n39.de/event/friday-nights/
LOCATION:Sachsen
CATEGORIES:N39 Friday Nights
ATTACH;FMTTYPE=image/jpeg:https://club-n39.de/wp-content/uploads/2026/03/club_n39_events_2026_03.jpg
END:VEVENT
BEGIN:VEVENT
DTSTART;TZID=Europe/Berlin:20260321T230000
DTEND;TZID=Europe/Berlin:20260322T050000
DTSTAMP:20260419T164455
CREATED:20260304T201742Z
LAST-MODIFIED:20260304T201749Z
UID:10000432-1774134000-1774155600@club-n39.de
SUMMARY:N39 Nights - 21.03.2026
DESCRIPTION:Für 5 Euro Eintritt im neu geöffneten Club N39 am Leipziger Marktplatz feiern. Dresscode? Kommt wie ihr euch fühlt! Wir finden es nicht mehr zeitgemäß Menschen vorzuschreiben\, wie sie sich kleiden sollen. \nMusik auf 2 Floors\nN39 West mit House\, Charts & ClubSound\nN39 East mit All Mixed (90er/2000er/2010er/Klassiker) \nStart 23 Uhr \nWir freuen uns auf euch! \n#ClubN39 #Leipzig #Party
URL:https://club-n39.de/event/n39-nights-samstag-4/
LOCATION:Club N39\, Markt 17\, Leipzig\, Sachsen\, 04109\, Germany
CATEGORIES:N39 Nights
ATTACH;FMTTYPE=image/jpeg:https://club-n39.de/wp-content/uploads/2026/03/club_n39_events_2026_10.jpg
ORGANIZER;CN="Club N39":MAILTO:alex@club-n39.de
END:VEVENT
BEGIN:VEVENT
DTSTART;TZID=Europe/Berlin:20260327T230000
DTEND;TZID=Europe/Berlin:20260328T050000
DTSTAMP:20260419T164455
CREATED:20260304T205611Z
LAST-MODIFIED:20260304T205614Z
UID:10000446-1774652400-1774674000@club-n39.de
SUMMARY:N39 Friday Nights - 27.03.2026
DESCRIPTION:Gute News: Euer Lieblingsclub hat ab sofort auch freitags geöffnet!\nFür 5 Euro Eintritt im neu geöffneten Club N39 am Leipziger Marktplatz feiern. Dresscode? Kommt wie ihr euch fühlt! Wir finden es nicht mehr zeitgemäß Menschen vorzuschreiben\, wie sie sich kleiden sollen. \nMusik auf 2 Floors\nN39 West mit House\, Charts & ClubSound\nN39 East mit All Mixed (90er/2000er/2010er/Klassiker) \nStart 23 Uhr \nWir freuen uns auf euch! \n#ClubN39 #Leipzig #Party
URL:https://club-n39.de/event/friday-nights-2/2026-03-27/
LOCATION:Sachsen
CATEGORIES:N39 Friday Nights
ATTACH;FMTTYPE=image/jpeg:https://club-n39.de/wp-content/uploads/2026/03/club_n39_events_2026_04.jpg
END:VEVENT
BEGIN:VEVENT
DTSTART;TZID=Europe/Berlin:20260328T230000
DTEND;TZID=Europe/Berlin:20260329T060000
DTSTAMP:20260419T164455
CREATED:20260304T201847Z
LAST-MODIFIED:20260304T201851Z
UID:10000433-1774738800-1774764000@club-n39.de
SUMMARY:N39 Nights - 28.03.2026
DESCRIPTION:Für 5 Euro Eintritt im neu geöffneten Club N39 am Leipziger Marktplatz feiern. Dresscode? Kommt wie ihr euch fühlt! Wir finden es nicht mehr zeitgemäß Menschen vorzuschreiben\, wie sie sich kleiden sollen. \nMusik auf 2 Floors\nN39 West mit House\, Charts & ClubSound\nN39 East mit All Mixed (90er/2000er/2010er/Klassiker) \nStart 23 Uhr \nWir freuen uns auf euch! \n#ClubN39 #Leipzig #Party
URL:https://club-n39.de/event/n39-nights-samstag-5/
LOCATION:Club N39\, Markt 17\, Leipzig\, Sachsen\, 04109\, Germany
CATEGORIES:N39 Nights
ATTACH;FMTTYPE=image/jpeg:https://club-n39.de/wp-content/uploads/2026/03/club_n39_events_2026_11.jpg
ORGANIZER;CN="Club N39":MAILTO:alex@club-n39.de
END:VEVENT
END:VCALENDAR