BEGIN:VCALENDAR
VERSION:2.0
PRODID:-//Club N39 - ECPv6.15.20//NONSGML v1.0//EN
CALSCALE:GREGORIAN
METHOD:PUBLISH
X-ORIGINAL-URL:https://club-n39.de
X-WR-CALDESC:Veranstaltungen für Club N39
REFRESH-INTERVAL;VALUE=DURATION:PT1H
X-Robots-Tag:noindex
X-PUBLISHED-TTL:PT1H
BEGIN:VTIMEZONE
TZID:Europe/Berlin
BEGIN:DAYLIGHT
TZOFFSETFROM:+0100
TZOFFSETTO:+0200
TZNAME:CEST
DTSTART:20250330T010000
END:DAYLIGHT
BEGIN:STANDARD
TZOFFSETFROM:+0200
TZOFFSETTO:+0100
TZNAME:CET
DTSTART:20251026T010000
END:STANDARD
BEGIN:DAYLIGHT
TZOFFSETFROM:+0100
TZOFFSETTO:+0200
TZNAME:CEST
DTSTART:20260329T010000
END:DAYLIGHT
BEGIN:STANDARD
TZOFFSETFROM:+0200
TZOFFSETTO:+0100
TZNAME:CET
DTSTART:20261025T010000
END:STANDARD
BEGIN:DAYLIGHT
TZOFFSETFROM:+0100
TZOFFSETTO:+0200
TZNAME:CEST
DTSTART:20270328T010000
END:DAYLIGHT
BEGIN:STANDARD
TZOFFSETFROM:+0200
TZOFFSETTO:+0100
TZNAME:CET
DTSTART:20271031T010000
END:STANDARD
END:VTIMEZONE
BEGIN:VEVENT
DTSTART;TZID=Europe/Berlin:20260524T230000
DTEND;TZID=Europe/Berlin:20260525T050000
DTSTAMP:20260419T200459
CREATED:20260304T211933Z
LAST-MODIFIED:20260304T214029Z
UID:10000454-1779663600-1779685200@club-n39.de
SUMMARY:N39 Latino Nights - 24.05.2026
DESCRIPTION:¡Viva la Noche Latina! – Latino Night @ N39 Leipzig\nLass dich von den Beats Lateinamerikas mitreißen – Reggaeton\, Salsa\, Bachata\, Merengue und Latin Pop sorgen für tropische Vibes auf dem Dancefloor.\nMusic auf 2 Floors: N39 West mit Latin | Reggaeton by DJ Samzz | DJ Morvious & N39 East mit AllMixed (2.000er | Partyclassics) by Franco \nDresscode: Come as you are – aber wer will\, bringt karibische Farben ins Spiel! \nVamos a bailar – wir freuen uns auf euch!\nN39 Leipzig | Doors open 23:00 | \nEintritt: VVK 7/AK 10
URL:https://club-n39.de/event/latino-nights/
CATEGORIES:N39 Friday Nights
ATTACH;FMTTYPE=image/jpeg:https://club-n39.de/wp-content/uploads/2026/03/club_n39_events_2026_27.jpg
END:VEVENT
BEGIN:VEVENT
DTSTART;TZID=Europe/Berlin:20260529T230000
DTEND;TZID=Europe/Berlin:20260530T050000
DTSTAMP:20260419T200459
CREATED:20260304T212120Z
LAST-MODIFIED:20260304T212123Z
UID:10000455-1780095600-1780117200@club-n39.de
SUMMARY:N39 Friday Nights - 29.05.2026
DESCRIPTION:Gute News: Euer Lieblingsclub hat ab sofort auch freitags geöffnet!\nFür 5 Euro Eintritt im neu geöffneten Club N39 am Leipziger Marktplatz feiern. Dresscode? Kommt wie ihr euch fühlt! Wir finden es nicht mehr zeitgemäß Menschen vorzuschreiben\, wie sie sich kleiden sollen. \nMusik auf 2 Floors\nN39 West mit House\, Charts & ClubSound\nN39 East mit All Mixed (90er/2000er/2010er/Klassiker) \nStart 23 Uhr \nWir freuen uns auf euch! \n#ClubN39 #Leipzig #Party
URL:https://club-n39.de/event/friday/
CATEGORIES:N39 Friday Nights
ATTACH;FMTTYPE=image/jpeg:https://club-n39.de/wp-content/uploads/2026/03/club_n39_events_2026_07.jpg
END:VEVENT
BEGIN:VEVENT
DTSTART;TZID=Europe/Berlin:20260530T230000
DTEND;TZID=Europe/Berlin:20260531T050000
DTSTAMP:20260419T200459
CREATED:20260304T203611Z
LAST-MODIFIED:20260304T203614Z
UID:10000442-1780182000-1780203600@club-n39.de
SUMMARY:N39 Nights - 30.05.2026
DESCRIPTION:Für 5 Euro Eintritt im neu geöffneten Club N39 am Leipziger Marktplatz feiern. Dresscode? Kommt wie ihr euch fühlt! Wir finden es nicht mehr zeitgemäß Menschen vorzuschreiben\, wie sie sich kleiden sollen. \nMusik auf 2 Floors\nN39 West mit House\, Charts & ClubSound\nN39 East mit All Mixed (90er/2000er/2010er/Klassiker) \nStart 23 Uhr \nWir freuen uns auf euch! \n#ClubN39 #Leipzig #Party
URL:https://club-n39.de/event/n39-nights-samstag-14/
LOCATION:Club N39\, Markt 17\, Leipzig\, Sachsen\, 04109\, Germany
CATEGORIES:N39 Nights
ATTACH;FMTTYPE=image/jpeg:https://club-n39.de/wp-content/uploads/2026/03/club_n39_events_2026_28-1.jpg
ORGANIZER;CN="Club N39":MAILTO:alex@club-n39.de
END:VEVENT
END:VCALENDAR